BEGIN:VCALENDAR
VERSION:2.0
PRODID:-//Patriot Guard Riders - ECPv5.3.2.1//NONSGML v1.0//EN
CALSCALE:GREGORIAN
METHOD:PUBLISH
X-WR-CALNAME:Patriot Guard Riders
X-ORIGINAL-URL:https://www.patriotguard.org
X-WR-CALDESC:Events for Patriot Guard Riders
BEGIN:VTIMEZONE
TZID:America/New_York
BEGIN:DAYLIGHT
TZOFFSETFROM:-0500
TZOFFSETTO:-0400
TZNAME:EDT
DTSTART:20190310T070000
END:DAYLIGHT
BEGIN:STANDARD
TZOFFSETFROM:-0400
TZOFFSETTO:-0500
TZNAME:EST
DTSTART:20191103T060000
END:STANDARD
END:VTIMEZONE
BEGIN:VEVENT
DTSTART;VALUE=DATE:20190718
DTEND;VALUE=DATE:20190719
DTSTAMP:20210404T065908
CREATED:20190711T012302Z
LAST-MODIFIED:20190711T012302Z
UID:167276-1563408000-1563494399@www.patriotguard.org
SUMMARY:Oliver Loman
DESCRIPTION:  \n\nHonor Mission\nOliver Loman\, Veteran\nUSAF\nTallahassee\, Florida  07-18-19\n\n\n\nABOUT THE MISSION: \nThe Patriot Guard Riders have been invited to stand in silent respect for this hero. Sergeant Oliver Loman stood for us and now we will stand for him. Sergeant Oliver Loman served honorably in the United States Air Force. He also served as a Senior Officer Specialist with the Federal Prison System. His interment service will be held at the Tallahassee National Cemetery at 2:00 PM on Thursday\, 18 July 2019. We will travel from the primary staging to the Federal Correctional Institute located at 501 Capital Circle NE\, Tallahassee and provide escort to the Tallahassee National Cemetery. We will stand a flag line during his interment service.\n\n\nPRIMARY STAGING DETAILS: 07-18-19 \nStaging Time: 12:00 PM \nWalmart Super Center\n535 Apalachee Parkway\nTallahassee\, Florida 32311\nhttps://www.google.com/maps/place/3535+Apalachee+Pkwy\,+Tallahassee\,+FL+32311/@30.4255242\,-84.2165645\,17z/data=!3m1!4b1!4m5!3m4!1s0x88ec5e4704e111dd:0x9fae4af4a3dc1fd0!8m2!3d30.4255196!4d-84.2143758\n\n\nRide Captain: \nDon Reeder\n850-933-0886\nfloridasailor@comcast.net\n\n\nSpecial Instructions: \nBriefing: 12:20 PM\nKSU: 12:30 PM\n\n\nFlags & Water:\nFlags will be provided\nIf you have large bike flags\, please bring them.\nWater WILL NOT be provided\, please bring your own.\n\nSTAGING #2 DETAILS: 07-18-19 \nStaging Time: 1:30 PM  \nTallahassee National Cemetery\n5015 Apalachee Parkway\nTallahassee\, Florida 32311\nhttps://www.google.com/maps/place/5015+Apalachee+Pkwy\,+Tallahassee\,+FL+32311/@30.4267597\,-84.190133\,17z/data=!3m1!4b1!4m5!3m4!1s0x88ec5e75ce6c88e1:0x859e6f56d059f47b!8m2!3d30.4267551!4d-84.1879443\n\n\nRide Captain: \nDon Reeder\n850-933-0886\nfloridasailor@comcast.net\n\n\nSpecial Instructions: \nBriefing: 1:40 PM\nFlag Line: 1:55 PM\n\n\nFlags & Water:\nFlags will be provided\nLarge Bike Flags will NOT be needed.\nWater WILL NOT be provided\, please bring your own.\n  \n\n\n\nSubmitted By: Don Reeder \nPosition: Florida Assistant State Captain \n\nNote: You do not have to own/ride a motorcycle or be a veteran to join\, and membership is Free. The only requirement is RESPECT! To subscribe to receive mission notices\, log into the National Site and click on the Members tab at the top. Select the Subscribe to PGR Missions option.\n Print This Page
URL:https://www.patriotguard.org/mission/oliver-loman/
CATEGORIES:Honor Mission
END:VEVENT
END:VCALENDAR