BEGIN:VCALENDAR
VERSION:2.0
PRODID:-//Patriot Guard Riders - ECPv5.6.0//NONSGML v1.0//EN
CALSCALE:GREGORIAN
METHOD:PUBLISH
X-WR-CALNAME:Patriot Guard Riders
X-ORIGINAL-URL:https://www.patriotguard.org
X-WR-CALDESC:Events for Patriot Guard Riders
BEGIN:VTIMEZONE
TZID:America/New_York
BEGIN:DAYLIGHT
TZOFFSETFROM:-0500
TZOFFSETTO:-0400
TZNAME:EDT
DTSTART:20160313T070000
END:DAYLIGHT
BEGIN:STANDARD
TZOFFSETFROM:-0400
TZOFFSETTO:-0500
TZNAME:EST
DTSTART:20161106T060000
END:STANDARD
END:VTIMEZONE
BEGIN:VEVENT
DTSTART;TZID=America/New_York:20160725T090000
DTEND;TZID=America/New_York:20160725T110000
DTSTAMP:20210512T224433
CREATED:20160725T130000Z
LAST-MODIFIED:20191201T144113Z
UID:410386-1469437200-1469444400@www.patriotguard.org
SUMMARY:Officer Montrell Jackson
DESCRIPTION:Montrell Jackson\nLaw Enforcement Officer\nBaton Rouge\, LA\nMonday\, 07-25-2016\n\n\n\nOfficer Montrell Jackson\, Baton Rouge Police Department. End of Watch July 17\, 2016. Killed in the Line of Duty. The family of Officer Jackson has requested the Patriot Guard stand in Honor of their loved one and Hero during his Memorial Service. We are Honored to accept. \nMr. Jackson was a 10 year Veteran of the Baton Rouge Police Department. He was a graduate of Istrouma High School and Southern University. He was the Father of a 4 year old son. \nPRIMARY STAGING INFO – 07-25-2016:\nLocation:\nLiving Faith Christian Center\n6375 Winbourne Ave.\nBaton Rouge\, LA \nStaging Time:\n8:00 A.M.\n\nSpecial Instructions:\nWe will meet and place flags on rebar and prepare to stand a Flag Line. Visitation: 9:00 a.m. Services: 11:00 a.m. Burial will be at Green Oaks Memorial Park. 9595 Florida Blvd. We will have designated parking.\n\nRCIC:\nDoug Nobles\nnoblesdoug@gmail.com \nAssisting RC:\nJames Morin\nknomad15002003@yahoo.com \nFlags will be provided.\nLarge bike flags will be needed. \nWeather:\n87 and scattered showers possible\, who knows! Hydrate!
URL:https://www.patriotguard.org/mission/officer-montrell-jackson/
CATEGORIES:Archive
END:VEVENT
END:VCALENDAR