BEGIN:VCALENDAR
VERSION:2.0
PRODID:-//Patriot Guard Riders - ECPv5.6.0//NONSGML v1.0//EN
CALSCALE:GREGORIAN
METHOD:PUBLISH
X-WR-CALNAME:Patriot Guard Riders
X-ORIGINAL-URL:https://www.patriotguard.org
X-WR-CALDESC:Events for Patriot Guard Riders
BEGIN:VTIMEZONE
TZID:America/New_York
BEGIN:DAYLIGHT
TZOFFSETFROM:-0500
TZOFFSETTO:-0400
TZNAME:EDT
DTSTART:20160313T070000
END:DAYLIGHT
BEGIN:STANDARD
TZOFFSETFROM:-0400
TZOFFSETTO:-0500
TZNAME:EST
DTSTART:20161106T060000
END:STANDARD
END:VTIMEZONE
BEGIN:VEVENT
DTSTART;TZID=America/New_York:20160621T090000
DTEND;TZID=America/New_York:20160621T110000
DTSTAMP:20210513T165635
CREATED:20160621T130000Z
LAST-MODIFIED:20191201T144956Z
UID:411186-1466499600-1466506800@www.patriotguard.org
SUMMARY:Officer Michael Katherman
DESCRIPTION:The Patriot Guard Riders have been requested to stand a Flag Line Only at the cemetery in Gilroy\, CA. There will be a big funeral for him at the SAP Center in San Jose for the public and media.  Our Mission is to stand a flag line at the cemetery then secure the cemetery for the family to have privacy as they lay their Hero to rest. Please bring your Flags and let’s Honor him and his Family\n \n\n[ATTACH=CONFIG]4832[/ATTACH]\n\nPLEASE DO NOT RE POST THIS AS THIS PART OF THE MISSION IS PRIVATE AND NOT FOR PUBLIC ATTENDANCE.  \nWHO: Officer Michael Katherman San Jose Police\, Active Duty \nWHEN: Tuesday June 21st\, 2016 \nSTAGING TIME: 1130 hrs \nSTAGING AREA: First Street Coffee 1211 1st Street Gilroy Ca 95020 \nhttp://mapq.st/1NBzTrJ\n\nRIDE CAPTAIN:\nMark Zappa mark@zappaform.com\nBuzz Bickham  buzzpgr@gmail.com
URL:https://www.patriotguard.org/mission/officer-michael-katherman/
CATEGORIES:Archive
END:VEVENT
END:VCALENDAR