BEGIN:VCALENDAR
VERSION:2.0
PRODID:-//Patriot Guard Riders - ECPv5.6.0//NONSGML v1.0//EN
CALSCALE:GREGORIAN
METHOD:PUBLISH
X-WR-CALNAME:Patriot Guard Riders
X-ORIGINAL-URL:https://www.patriotguard.org
X-WR-CALDESC:Events for Patriot Guard Riders
BEGIN:VTIMEZONE
TZID:America/New_York
BEGIN:DAYLIGHT
TZOFFSETFROM:-0500
TZOFFSETTO:-0400
TZNAME:EDT
DTSTART:20160313T070000
END:DAYLIGHT
BEGIN:STANDARD
TZOFFSETFROM:-0400
TZOFFSETTO:-0500
TZNAME:EST
DTSTART:20161106T060000
END:STANDARD
END:VTIMEZONE
BEGIN:VEVENT
DTSTART;TZID=America/New_York:20160714T090000
DTEND;TZID=America/New_York:20160714T110000
DTSTAMP:20210512T205852
CREATED:20160714T130000Z
LAST-MODIFIED:20191201T144325Z
UID:410589-1468486800-1468494000@www.patriotguard.org
SUMMARY:Officer Michael Josua Ventura\, 32
DESCRIPTION:Officer Michael Josua “Josh” Ventura  \n\n\n\n \n\n\nSalem Police  Department\n\n\nKenosha\, WI\nJuly 14\,  2016\n\n\nMichael “Josh” Ventura\, age 32\, of  Mount Pleasant\, passed away following injuries sustained in an accident while on  duty as a Salem Police Officer. Josh was born in Evanston\, IL on July 10\, 1983  and came to the Kenosha are in 2010.  Michael was a graduate of the Gateway  Technical Law Enforcement Academy on May 27\, 2016 and was immediately hired by  the Town of Salem Public Safety.\n\nWe have been invited by the family  to join them and Josh’s Brothers and Sisters of the Law Enforcement family as  they remember his strength\, kindness and  compassion. \nWe will not be attending the  first visitation this evening (7/13) \n Second Visitation \nJuly 14\, 2016   \n9:00 a.m. to 10:00 a.m.\nGateway Technical College \nMadrigrano Auditorium\n3520 –   30th  Avenue\nKenosha WI 53144\n\nStaging  \n7:30 a.m. for family arrival at 8:00\n\nMemorial Service  follows\n10:00 a.m.    \nPrivate burial at a later date. \nRide Captain is Ted Valenti tedv@valcodata.com
URL:https://www.patriotguard.org/mission/officer-michael-josua-ventura-32/
CATEGORIES:Archive
END:VEVENT
END:VCALENDAR