BEGIN:VCALENDAR
VERSION:2.0
PRODID:-//Patriot Guard Riders - ECPv5.6.0//NONSGML v1.0//EN
CALSCALE:GREGORIAN
METHOD:PUBLISH
X-WR-CALNAME:Patriot Guard Riders
X-ORIGINAL-URL:https://www.patriotguard.org
X-WR-CALDESC:Events for Patriot Guard Riders
BEGIN:VTIMEZONE
TZID:America/New_York
BEGIN:DAYLIGHT
TZOFFSETFROM:-0500
TZOFFSETTO:-0400
TZNAME:EDT
DTSTART:20160313T070000
END:DAYLIGHT
BEGIN:STANDARD
TZOFFSETFROM:-0400
TZOFFSETTO:-0500
TZNAME:EST
DTSTART:20161106T060000
END:STANDARD
END:VTIMEZONE
BEGIN:VEVENT
DTSTART;TZID=America/New_York:20160621T090000
DTEND;TZID=America/New_York:20160621T110000
DTSTAMP:20210513T182303
CREATED:20160621T130000Z
LAST-MODIFIED:20191201T145018Z
UID:411217-1466499600-1466506800@www.patriotguard.org
SUMMARY:Officer Endy Ekpanya
DESCRIPTION:Patriot’s Name: Officer Endy Ekpanya \nMission Name: Interment of Pearland Police Officer Endy Ekpanya \nBranch: Pearland Police Department \nDate of Mission: Tuesday\, June 21\, 2016 \nStaging Time: 10:30 \nBriefing Time: 11:15 \nStaging Address:\nSouth Park Cemetery\n1310 North Main (N. Hwy 35)\nPearland\, Tx 77591 \nDirections: South of South Sam Houston Pkwy East. \nMission details: Flag Line \nObituary: Officer Endy Ekpanva was born June 15\,1985. He became a Pearland Police Officer in December of 2015. While responding to a call\, he was involved in a head-on collision. Officer Endy Ekpanva tragically died of injuries. His End of Watch was June 12\, 2016. Endy Ekpanva leaves behind a two year old son\, Fiancée\, his parents and a brother. \nRide Captain:\nWillie Dromgoole\n832-724-5655\nwd21@sbcglobal.net \nRC #2:\nChuck Collum\n713-870-5660\ncullum.charles@yahoo.com \nSupport Vehicle: Ken Strube \nWeather Forecast: Hot mostly sunny high of 90 with 20% chance of showers. \nHydrate before during and after this mission.
URL:https://www.patriotguard.org/mission/officer-endy-ekpanya/
CATEGORIES:Archive
END:VEVENT
END:VCALENDAR