BEGIN:VCALENDAR
VERSION:2.0
PRODID:-//Patriot Guard Riders - ECPv5.3.2.1//NONSGML v1.0//EN
CALSCALE:GREGORIAN
METHOD:PUBLISH
X-WR-CALNAME:Patriot Guard Riders
X-ORIGINAL-URL:https://www.patriotguard.org
X-WR-CALDESC:Events for Patriot Guard Riders
BEGIN:VTIMEZONE
TZID:America/New_York
BEGIN:DAYLIGHT
TZOFFSETFROM:-0500
TZOFFSETTO:-0400
TZNAME:EDT
DTSTART:20100314T070000
END:DAYLIGHT
BEGIN:STANDARD
TZOFFSETFROM:-0400
TZOFFSETTO:-0500
TZNAME:EST
DTSTART:20101107T060000
END:STANDARD
END:VTIMEZONE
BEGIN:VEVENT
DTSTART;TZID=America/New_York:20100812T090000
DTEND;TZID=America/New_York:20100812T110000
DTSTAMP:20210404T101107
CREATED:20100812T130000Z
LAST-MODIFIED:20191201T105305Z
UID:356582-1281603600-1281610800@www.patriotguard.org
SUMMARY:Norman R. Mona\, USA Veteran
DESCRIPTION:NORMAN R. MONA\nUS ARMY VETERAN\n\n\nThe family of Norman R. Mona have requested our presence at the funeral of their loved one.\nNorman served as a paratrooper during the Korean War with the 101st airborne.\nNorman stayed active and involved in his community after military service\, serving as the Chaplin for the Fraternal Order of Police\, Lodge # 14; as a member of the Knights of Columbus\, St. Thomas Council; member of the Cumberland Seniors; past president of the St. John Vianney Seniors; past president of the Cumberland Youth Baseball League; and formerly a Cub Scout Leader.\nYou can read a full obituary here:   Norman R. Mona\n\nThe Patriot Guard will form a line at the cemetery for services there.\nPlease arrive at the main gate by 11 AM\nMt. St. Mary’s Cemetery\n661 Prospect St.\nPawtucket\, RI \n>> Map > Bring Flags
URL:https://www.patriotguard.org/mission/norman-r-mona-usa-veteran/
CATEGORIES:Archive
END:VEVENT
END:VCALENDAR