BEGIN:VCALENDAR
VERSION:2.0
PRODID:-//Patriot Guard Riders - ECPv5.3.2.1//NONSGML v1.0//EN
CALSCALE:GREGORIAN
METHOD:PUBLISH
X-WR-CALNAME:Patriot Guard Riders
X-ORIGINAL-URL:https://www.patriotguard.org
X-WR-CALDESC:Events for Patriot Guard Riders
BEGIN:VTIMEZONE
TZID:America/New_York
BEGIN:DAYLIGHT
TZOFFSETFROM:-0500
TZOFFSETTO:-0400
TZNAME:EDT
DTSTART:20190310T070000
END:DAYLIGHT
BEGIN:STANDARD
TZOFFSETFROM:-0400
TZOFFSETTO:-0500
TZNAME:EST
DTSTART:20191103T060000
END:STANDARD
END:VTIMEZONE
BEGIN:VEVENT
DTSTART;VALUE=DATE:20190725
DTEND;VALUE=DATE:20190726
DTSTAMP:20210403T204021
CREATED:20190718T234411Z
LAST-MODIFIED:20190718T234411Z
UID:167839-1564012800-1564099199@www.patriotguard.org
SUMMARY:Norman P. Lalinsky
DESCRIPTION:Honor Mission\nNorman P. Lalinsky\, Veteran\nUSA –\nHolly\, Michigan – 07-25-19\n\n\n\nABOUT THE MISSION: \nThe Family of Norman P. Lalinsky has requested the Patriot Guard Riders stand a silent Flag Line in honor of his service to our Country. Mr. Lalinsky served with A Battery\, 4th Msl Bn.\, 44th Artillery Div. in Korea from 1966-1967. He received the National Defense Service Medal. Mr. Lalinsky worked as a Dock Worker\, then as a Truck Driver for Detroit Diesel\, retiring after 33 years. He was also a member of the Gold Wing Chapter “H” during the 1980’s & 1990’s. He rode the Dragon’s Tail in Tenn and some Paul Revere Rides over the Mackinaw Bridge. Mr. Lalinsky leaves behind his Wife\, one daughter\, one son\, 7 grand children\, and 3 great-grand children. Also\, 3 sisters and 2 brothers (one is PGR RC BUBBA). He was preceded in death by his parents\, and a step daughter. Mr. Lalinsky Passed on 7-25-2015 in Ky.\n\n\nPRIMARY STAGING DETAILS: 07-25-19 \nStaging Time: 11:15 AM\n \nMcDonald’s\n15187 N. Holly Rd.\nHolly\, Michigan 48442\nMap\n\n\nRide Captain: \nBUBBA\n734-658-0995\n\n\nSpecial Instructions: \nBriefing: 11:45 AM\nKSU: 12:05 PM\nService: 12:30 PM\nPlease bring your 3′ x 5′ American Flag to Stand in Honor of Mr. Lalinsky’s Service to our Country.\n\n\nFlags & Water:\nFlags will not be provided\nLarge Bike Flags will NOT be needed.\nWater WILL NOT be provided\, please bring your own.\n\n\n\nSubmitted By: Terrence Laurencelle \nPosition: Michigan Ride Captain \n\nNote: You do not have to own/ride a motorcycle or be a veteran to join\, and membership is Free. The only requirement is RESPECT! To subscribe to receive mission notices\, log into the National Site and click on the Members tab at the top. Select the Subscribe to PGR Missions option.\n Print This Page
URL:https://www.patriotguard.org/mission/norman-p-lalinsky/
CATEGORIES:Honor Mission
END:VEVENT
END:VCALENDAR