BEGIN:VCALENDAR
VERSION:2.0
PRODID:-//Patriot Guard Riders - ECPv5.3.2.1//NONSGML v1.0//EN
CALSCALE:GREGORIAN
METHOD:PUBLISH
X-WR-CALNAME:Patriot Guard Riders
X-ORIGINAL-URL:https://www.patriotguard.org
X-WR-CALDESC:Events for Patriot Guard Riders
BEGIN:VTIMEZONE
TZID:America/New_York
BEGIN:DAYLIGHT
TZOFFSETFROM:-0500
TZOFFSETTO:-0400
TZNAME:EDT
DTSTART:20190310T070000
END:DAYLIGHT
BEGIN:STANDARD
TZOFFSETFROM:-0400
TZOFFSETTO:-0500
TZNAME:EST
DTSTART:20191103T060000
END:STANDARD
END:VTIMEZONE
BEGIN:VEVENT
DTSTART;VALUE=DATE:20190528
DTEND;VALUE=DATE:20190529
DTSTAMP:20210405T131524
CREATED:20190528T093804Z
LAST-MODIFIED:20190528T093804Z
UID:162563-1559001600-1559087999@www.patriotguard.org
SUMMARY:Norman Lewis
DESCRIPTION:Honor Mission\nNorman Lewis\, Veteran\nUSN – Vietnam\nInman\, South Carolina – 05-28-19\n\n\n\n\nABOUT THE MISSION: \nCorpsman Norman Lewis served two tours of duty in a place called Vietnam (68-69 and 71-72).  After separation from service he became a microbiologist and most recently worked at St. Luke’s Hospital in Columbus NC.  His family has requested that Patriot Guard Riders conduct an Honor Mission in acknowledgement of his service to America.\n\n\nPRIMARY STAGING DETAILS: 05-28-19 \nStaging Time: 9:45 a.m.\n \nSprings of Grace Lutheran Church\n320 Holden Drive\nInman\, South Carolina 29349\nMap\n\n\nRide Captain: \nLarry Brackett\, lhbrackett@att.net\, 864-313-6087\n\n\nSpecial Instructions: \nBriefing: 0950.  This mission is Flag Line only.  Interment is to take place in Boyertown PA at a later date.  Once the service has begun\, the PGR will quietly depart.\n\n\nFlags & Water:\nFlags will be provided\nLarge Bike Flags will NOT be needed.\nWater will be provided.\n\n\nSubmitted By: Randy Stevens \nPosition: South Carolina Assistant State Captain \n\nNote: You do not have to own/ride a motorcycle or be a veteran to join\, and membership is Free. The only requirement is RESPECT! To subscribe to receive mission notices\, log into the National Site and click on the Members tab at the top. Select the Subscribe to PGR Missions option.\n Print This Page
URL:https://www.patriotguard.org/mission/norman-lewis/
CATEGORIES:Honor Mission
END:VEVENT
END:VCALENDAR