BEGIN:VCALENDAR
VERSION:2.0
PRODID:-//Patriot Guard Riders - ECPv5.3.2.1//NONSGML v1.0//EN
CALSCALE:GREGORIAN
METHOD:PUBLISH
X-WR-CALNAME:Patriot Guard Riders
X-ORIGINAL-URL:https://www.patriotguard.org
X-WR-CALDESC:Events for Patriot Guard Riders
BEGIN:VTIMEZONE
TZID:America/New_York
BEGIN:DAYLIGHT
TZOFFSETFROM:-0500
TZOFFSETTO:-0400
TZNAME:EDT
DTSTART:20170312T070000
END:DAYLIGHT
BEGIN:STANDARD
TZOFFSETFROM:-0400
TZOFFSETTO:-0500
TZNAME:EST
DTSTART:20171105T060000
END:STANDARD
END:VTIMEZONE
BEGIN:VEVENT
DTSTART;TZID=America/New_York:20171017T120000
DTEND;TZID=America/New_York:20171017T140000
DTSTAMP:20210406T033214
CREATED:20171017T160000Z
LAST-MODIFIED:20191201T032619Z
UID:329742-1508241600-1508248800@www.patriotguard.org
SUMMARY:Norman Lee Collision\, USA - Korea
DESCRIPTION:Norman Lee Collision\nUSA  – Korea\nSpringfield\, Missouri – 17 Oct 2017\n\n\n[HR][/HR]\nABOUT THE MISSION: \n\nThe family of SFC Norman Lee Collision has  honored the Patriot Guard Riders with a request for a flag line and an  escort to our hero’s final resting place. Hero Collision served our  country during the Korean conflict where he received a Purple Heart\, two  Bronze Stars\, the Combat Infantry Badge\, an Overseas bar\, the Korean  Service Medal and the United Nations Service Medal.  As a result of his  combat injury\, hero Collision received a permanent disability retirement  from the Army. He passed away at the Mt. Vernon Veteran’s Home on Oct.  12\, 2017. \nHero Collision retired from the Inland Printing Company as a salesman and  then from the Assemblies of God\, Gospel Publishing House.\n \n\nPRIMARY STAGING DETAILS:  17 Oct 2017\nPrimary Staging Time: 12:00 P.M. \n\nWalnut Lawn Funeral Home\n2001 W. Walnut Lawn\nSpringfield\, Missouri –\n\n\nRide Captain: \n\nKent McGregor\n(850) 544-6616 c\n(417) 993-0220 h\nmcgregor.kent@gmail.com\n\n\nSpecial Instructions: \n\nBRIEF:  12:15p\nFLAG LINE: Immediately following briefing\nSERVICE: 1:00p\nESCORT: Immediately following service to Eastlawn Cemetery\, 2244 E. Pythian St\, Spg\, MO \nWEATHER FORECAST: 63˚ and 0% chance of precipitation\n \n\nFlags & Water: \n\nFlags Will Be Provided\nIf you have large bike flags\, please bring them.\nWater will be provided.\n\nSubmitted By: Kent McGregor\nPosition: Ride Captain\n[HR][/HR]Note:\nYou do not have to own/ride a motorcycle or be a Veteran to join and membership is Free. The only requirement is RESPECT! To join\, simply go to www.PatriotGuard.org and click on Register. Membership is Free. \nTo subscribe to receive mission notices\, log into the National Site and click on the Mission Tab at the top. Select the Subscribe to Missions option.
URL:https://www.patriotguard.org/mission/norman-lee-collision-usa-korea/
LOCATION:Charles “Chuck” T. Whitlock
END:VEVENT
END:VCALENDAR