BEGIN:VCALENDAR
VERSION:2.0
PRODID:-//Patriot Guard Riders - ECPv5.3.2.1//NONSGML v1.0//EN
CALSCALE:GREGORIAN
METHOD:PUBLISH
X-WR-CALNAME:Patriot Guard Riders
X-ORIGINAL-URL:https://www.patriotguard.org
X-WR-CALDESC:Events for Patriot Guard Riders
BEGIN:VTIMEZONE
TZID:America/New_York
BEGIN:DAYLIGHT
TZOFFSETFROM:-0500
TZOFFSETTO:-0400
TZNAME:EDT
DTSTART:20170312T070000
END:DAYLIGHT
BEGIN:STANDARD
TZOFFSETFROM:-0400
TZOFFSETTO:-0500
TZNAME:EST
DTSTART:20171105T060000
END:STANDARD
END:VTIMEZONE
BEGIN:VEVENT
DTSTART;TZID=America/New_York:20170610T083000
DTEND;TZID=America/New_York:20170610T103000
DTSTAMP:20210405T212015
CREATED:20170610T123000Z
LAST-MODIFIED:20191201T032755Z
UID:331023-1497083400-1497090600@www.patriotguard.org
SUMMARY:Norman J. Merlotti\, Veteran\, USA - WWII
DESCRIPTION:Norman J. Merlotti\, Veteran \nUSA – WWII \nSt. Louis\, Missouri – 10 Jun 2017\n\n[HR][/HR]\nABOUT THE MISSION: \nThe Patriot Guard Riders have been requested to honor another one of our fallen heroes from the Greatest Generation.  Norman J. Merlotti served in the United States Army during WWII as a Wrecker Crewman and obtained the rank of TEC-3. During his service he received 3 Bronze Stars and was in the New Guinea\, Southern Philippines and Luzon campaigns. It will be our honor to stand for this fallen hero as he once stood for the freedoms we have today. \nPRIMARY STAGING DETAILS: 10 Jun 2017 \n \nPrimary Staging Time: 8:30 A.M.\n\nSt James The Greater Catholic Church\n6401 Wade Avenue\n\nSt. Louis\, Missouri – 63139\n\n\n\n \nRide Captain:\n\nJohn Faul\nCell # 256-603-1714\nemail – jmfaul@hotmail.com \nFlag Support TBD\n\n \nSpecial Instructions:\n\n\n8:30 AM – Stage\n8:35 AM – Ride Meeting. With flag line to follow.\n9:30 AM – Funeral Mass \nAfter the Funeral Mass we will escort our fallen hero to his final resting place at Saint Peter and Paul Cemetery – 7030 Gravois – St. Louis\, MO 63116 \nWeather Forecast Hi 90* Lo 70* Stay hydrated cages are always welcome. Ride Safe.\n\n \n \nFlags & Water:\n\nFlags Will Be Provided\n\nIf you have large bike flags\, please bring them.\n\nWater will be provided.\n\n\nSubmitted By:\nPosition: Ride Captain \n[HR][/HR]\nNote:\nYou do not have to own/ride a motorcycle or be a Veteran to join and membership is Free. The only requirement is RESPECT! To join\, simply go to www.PatriotGuard.org and click on Register. Membership is Free. \nTo subscribe to receive mission notices\, log into the National Site and click on the Mission Tab at the top. Select Upcoming Missions by State. Scroll to the state(s) you would like to receive notices for and click on the green check mark. Detailed instructions are also located in the FAQs on the site by clicking on the Quick Links Tab and selecting FAQs.
URL:https://www.patriotguard.org/mission/norman-j-merlotti-veteran-usa-wwii/
END:VEVENT
END:VCALENDAR