BEGIN:VCALENDAR
VERSION:2.0
PRODID:-//Patriot Guard Riders - ECPv5.6.0//NONSGML v1.0//EN
CALSCALE:GREGORIAN
METHOD:PUBLISH
X-WR-CALNAME:Patriot Guard Riders
X-ORIGINAL-URL:https://www.patriotguard.org
X-WR-CALDESC:Events for Patriot Guard Riders
BEGIN:VTIMEZONE
TZID:America/New_York
BEGIN:DAYLIGHT
TZOFFSETFROM:-0500
TZOFFSETTO:-0400
TZNAME:EDT
DTSTART:20160313T070000
END:DAYLIGHT
BEGIN:STANDARD
TZOFFSETFROM:-0400
TZOFFSETTO:-0500
TZNAME:EST
DTSTART:20161106T060000
END:STANDARD
END:VTIMEZONE
BEGIN:VEVENT
DTSTART;TZID=America/New_York:20160815T090000
DTEND;TZID=America/New_York:20160815T110000
DTSTAMP:20210511T195643
CREATED:20160815T130000Z
LAST-MODIFIED:20191201T143703Z
UID:410001-1471251600-1471258800@www.patriotguard.org
SUMMARY:Norman J. Cuadra\, 36\, USMC\, GWOT / Corona
DESCRIPTION:Norman J. Cuadra\, 36\nUSMC\, OIF\nCorona\, Riverside\, CA\n15 August 2016\n\n\n\nPer request of our good friend Gregg “Digger” Walker (Walker Family Funeral Services) the family of Norman J. Cuadra has invited the Patriot Guard Riders (PGR) to attend the Military Honors of their loved one as he makes his final journey. It will be our honor to do so. \nNorman\, a resident of Corona\, was born in Managua\, Nicaragua on 07 November 1979 and entered into Eternal Rest on 04 August 2016 tragically as a result of a swimming accident in Salinas\, Baja California. \nAfter high school Norman joined the U.S. Marine Corps proudly serving his country during Operation Iraqi Freedom from February 2002 to March 2005. Norman received citation/awards that included Combat Action Ribbon (Iraq)\, Global War on Terrorism Service Medal\, Selected Marine Corps Reserve Medal\, Global War on Terrorism Expeditionary Medal (Iraq)\, Sea Service Deployment Medal\, Presidential Unit Commendation and Certificate of Commendation\, Meritorious Mast. Norman was honorably discharged as a Lance Corporal (LCpl). \nNorman is survived by his wife Corina\, five children\, three sisters and mother\, as well as many other cherished family members and dear friends. \nNOTE: This mission posting is to facilitate your voluntary participation in honoring this Military Veteran. For those interested\, and all are welcome\, we will be accompanying the hero and his family from the church to his final resting place. Please see the time table if you would like to participate. For those who would rather go directly to the cemetery\, we will meet you there. \nThe weather is predicted to be hot so please stay hydrated and don’t forget to eat; it can make a difference with your ability to withstand the heat. \nTime Table for Monday 15 August 2016: \n1045 – Stage at\nSt. Mary Magdalene Catholic Church\n8540 Weirick Road\nCorona\, CA\nhttps://goo.gl/maps/qPbwq3qAwN82 \n1115 – Mission Briefing \n1130 – Flag line as our Hero is moved to the coach. \n1130 – KSU to Riverside National Cemetery\, (Staging Area #2 for family\, north of Staging Area #8 for PGR) 22495 Van Buren Blvd.\, Riverside\, CA 92518 http://goo.gl/maps/v0K0E \n1215 – KSU to assigned gravesite for Flag line\, Service and Military Honors \nRC: Ray “T-Bone” Gould\n951-634-4112\nray@gouldgps.com \nYou do not have to be a Veteran or a motorcycle rider to attend this mission. Everyone is welcome. We encourage those who do not ride to attend in your car. If this will be your first mission go to the initial staging area and you will be briefed there by the R/C (Ride Captain). Dress for motorcycle riding or dress casually if you are driving a cage (car). Please feel free to attend any portion of this mission you can.
URL:https://www.patriotguard.org/mission/norman-j-cuadra-36-usmc-gwot-corona/
CATEGORIES:Archive
END:VEVENT
END:VCALENDAR