BEGIN:VCALENDAR
VERSION:2.0
PRODID:-//Patriot Guard Riders - ECPv5.3.2.1//NONSGML v1.0//EN
CALSCALE:GREGORIAN
METHOD:PUBLISH
X-WR-CALNAME:Patriot Guard Riders
X-ORIGINAL-URL:https://www.patriotguard.org
X-WR-CALDESC:Events for Patriot Guard Riders
BEGIN:VTIMEZONE
TZID:America/New_York
BEGIN:DAYLIGHT
TZOFFSETFROM:-0500
TZOFFSETTO:-0400
TZNAME:EDT
DTSTART:20190310T070000
END:DAYLIGHT
BEGIN:STANDARD
TZOFFSETFROM:-0400
TZOFFSETTO:-0500
TZNAME:EST
DTSTART:20191103T060000
END:STANDARD
END:VTIMEZONE
BEGIN:VEVENT
DTSTART;VALUE=DATE:20190604
DTEND;VALUE=DATE:20190605
DTSTAMP:20210405T050958
CREATED:20190530T233329Z
LAST-MODIFIED:20190530T233329Z
UID:163133-1559606400-1559692799@www.patriotguard.org
SUMMARY:Norman Henry Zimmerman
DESCRIPTION:Honor Mission\nNorman Henry Zimmerman\, Veteran\nUSAF\, USAR – Korea\nAugusta\, Michigan – 06-04-19\n\n\n\nABOUT THE MISSION: \nThe family of Norman H. Zimmerman has invited the Patriot Guard Riders to stand in honor of his service to our country. He served four years in the USAF\, including Korea\, then later served 16 years in the Army Reserve. Norm was a member of the Paw Paw American Legion and served on their Honor Guard.\nObituary\n\n\nPRIMARY STAGING DETAILS: 06-04-19 \nStaging Time: 1:30 PM\n \nFt. Custer National Cemetery\n15501 Dickman Rd.\nAugusta\, Michigan 49012\nMap\n\n\nRide Captain: \nGIG\n(517) 462-8143\n\n\nSpecial Instructions: \nBriefing: 1:45 PM\nFlag Line: upon direction of the RC.\nPlease bring your 3′ x 5′ American Flag.\nPlease meet just beyond the restrooms on the Avenue of Flags.\nDo not go down to the committal shelter early.\nRC Gig Wagner will release us to go down.\n\n\nFlags & Water:\nFlags will not be provided\nLarge Bike Flags will NOT be needed.\nWater WILL NOT be provided\, please bring your own.\n\n\n\nSubmitted By: Terrence Laurencelle \nPosition: Michigan Ride Captain \n\nNote: You do not have to own/ride a motorcycle or be a veteran to join\, and membership is Free. The only requirement is RESPECT! To subscribe to receive mission notices\, log into the National Site and click on the Members tab at the top. Select the Subscribe to PGR Missions option.\n Print This Page
URL:https://www.patriotguard.org/mission/norman-henry-zimmerman/
CATEGORIES:Honor Mission
END:VEVENT
END:VCALENDAR