BEGIN:VCALENDAR
VERSION:2.0
PRODID:-//Patriot Guard Riders - ECPv5.3.2.1//NONSGML v1.0//EN
CALSCALE:GREGORIAN
METHOD:PUBLISH
X-WR-CALNAME:Patriot Guard Riders
X-ORIGINAL-URL:https://www.patriotguard.org
X-WR-CALDESC:Events for Patriot Guard Riders
BEGIN:VTIMEZONE
TZID:America/New_York
BEGIN:DAYLIGHT
TZOFFSETFROM:-0500
TZOFFSETTO:-0400
TZNAME:EDT
DTSTART:20080309T070000
END:DAYLIGHT
BEGIN:STANDARD
TZOFFSETFROM:-0400
TZOFFSETTO:-0500
TZNAME:EST
DTSTART:20081102T060000
END:STANDARD
END:VTIMEZONE
BEGIN:VEVENT
DTSTART;TZID=America/New_York:20080904T090000
DTEND;TZID=America/New_York:20080904T110000
DTSTAMP:20210401T175713
CREATED:20080904T130000Z
LAST-MODIFIED:20191201T113418Z
UID:380561-1220518800-1220526000@www.patriotguard.org
SUMMARY:Norman Grandmaison\, Korea Veteran
DESCRIPTION:Norman Grandmaison\, Korean War Veteran and former owner of the Ashworth Hotel in Hampton Beach passed away early morning on Aug 30th.  The PGR has been asked to participate and provide final honors to this fine man. \nFuneral will be at 10:00AM at St. Theresa of Lisieux Church\, Rye Beach\, New Hampshire on Thursday\, September 4\, 2008. \nPrimary Staging will be at the Robert K. Grey\, Jr. Funeral Home (24 Winnacunnet Road\, Hampton NH – across from Galley Hatch).  If you are available and can make it\, please be there NLT 0845.  Departure (KSU) will be at 0915.  Additional details will be briefed there. \nWe will be escorting Mr. Grandmaison and family to the church with police escort (Hampton to Rye).  Be sure to fly your flags on the bikes! \nRide Capt for tomorrow’s mission will be Nighthawk750 (Tom Kearney). \nThank you. \n\nBobby\nIMTVET\nPGR Ride Capt\,  So. Central NH\nCVMA NH State Rep
URL:https://www.patriotguard.org/mission/norman-grandmaison-korea-veteran/
CATEGORIES:Archive
END:VEVENT
END:VCALENDAR