BEGIN:VCALENDAR
VERSION:2.0
PRODID:-//Patriot Guard Riders - ECPv5.3.2.1//NONSGML v1.0//EN
CALSCALE:GREGORIAN
METHOD:PUBLISH
X-WR-CALNAME:Patriot Guard Riders
X-ORIGINAL-URL:https://www.patriotguard.org
X-WR-CALDESC:Events for Patriot Guard Riders
BEGIN:VTIMEZONE
TZID:America/New_York
BEGIN:DAYLIGHT
TZOFFSETFROM:-0500
TZOFFSETTO:-0400
TZNAME:EDT
DTSTART:20190310T070000
END:DAYLIGHT
BEGIN:STANDARD
TZOFFSETFROM:-0400
TZOFFSETTO:-0500
TZNAME:EST
DTSTART:20191103T060000
END:STANDARD
END:VTIMEZONE
BEGIN:VEVENT
DTSTART;VALUE=DATE:20190816
DTEND;VALUE=DATE:20190817
DTSTAMP:20210402T080545
CREATED:20190814T150407Z
LAST-MODIFIED:20190814T150407Z
UID:170762-1565913600-1565999999@www.patriotguard.org
SUMMARY:Norman F. Whitson
DESCRIPTION:Honor Mission\nNorman F. Whitson\, Veteran\nUSA\, USAR – Vietnam\nLawton\, Oklahoma – 08-16-19\n\n\n\nABOUT THE MISSION: \nThe family of U S Army\, Vietnam Veteran Norman F. Whitson has asked the PGR to stand in honor of their fallen Hero. Cpt. Norman F. Whitson served 19 years total in the US Army and US Army Reserves. Cpt. Whitson’s last duty station was with Hq Co Hq Cmd 3rd US Army. Cpt. Whitson received the following medals and ribbons: National Defense Service Medal\, US Army Aviators Badge\, Good Conduct Medal\, Vietnam Service Medal\, Vietnam Campaign Medal\, Air Medal w/ 25 Oak Leaf Clusters.\n\n\nPRIMARY STAGING DETAILS: 08-16-19 \nStaging Time: 09:00 AM\n \nUnited Methodist Church\n1707 NW Lincoln st.\nLawton\, Oklahoma 73505\n\n\nRide Captain: \nJerry “Shepard” Wilson\n1-580-467-4648\njerryw_46@yahoo.com\n\n\nSpecial Instructions: \nBriefing: 09:15 am. Must attend briefing.\nService: 10:00 am.\nInterment at Sunset Gardens Cemetery in Lawton\, OK.\nUS Army Honor Guard will render full military honors.\n\n\nFlags & Water:\nFlags will be provided\nIf you have large bike flags\, please bring them.\nWater will be provided.\n\n\n\nSubmitted By: Jerry Wilson \nPosition: Oklahoma Ride Captain \n\nNote: You do not have to own/ride a motorcycle or be a veteran to join\, and membership is Free. The only requirement is RESPECT! To subscribe to receive mission notices\, log into the National Site and click on the Members tab at the top. Select the Subscribe to PGR Missions option.\n Print This Page
URL:https://www.patriotguard.org/mission/norman-f-whitson/
CATEGORIES:Honor Mission
END:VEVENT
END:VCALENDAR