BEGIN:VCALENDAR
VERSION:2.0
PRODID:-//Patriot Guard Riders - ECPv5.3.2.1//NONSGML v1.0//EN
CALSCALE:GREGORIAN
METHOD:PUBLISH
X-WR-CALNAME:Patriot Guard Riders
X-ORIGINAL-URL:https://www.patriotguard.org
X-WR-CALDESC:Events for Patriot Guard Riders
BEGIN:VTIMEZONE
TZID:America/New_York
BEGIN:DAYLIGHT
TZOFFSETFROM:-0500
TZOFFSETTO:-0400
TZNAME:EDT
DTSTART:20190310T070000
END:DAYLIGHT
BEGIN:STANDARD
TZOFFSETFROM:-0400
TZOFFSETTO:-0500
TZNAME:EST
DTSTART:20191103T060000
END:STANDARD
END:VTIMEZONE
BEGIN:VEVENT
DTSTART;VALUE=DATE:20190912
DTEND;VALUE=DATE:20190913
DTSTAMP:20210401T130432
CREATED:20190910T144557Z
LAST-MODIFIED:20190910T144703Z
UID:173328-1568246400-1568332799@www.patriotguard.org
SUMMARY:Norman E. Dungan
DESCRIPTION:Honor Mission\nNorman E. Dungan\, Veteran\nUSA – Korea\nGrain Valley \, Missouri – 09-12-19\n\n\n\nABOUT THE MISSION: \nThe Patriot Guard will stand a flag line in to honor Norman E. Dungan during his service. After the service\, Military Honors will be done at the chapel. Hero Dungan served his country proudly during the Korean War where he served 5 years obtaining the rank of Corporal.\n\n\nPRIMARY STAGING DETAILS: 09-12-19 \nStaging Time: 11:15 am\n \nChapel of Memories Funeral Home\n30000 East Valor Drive\nGrain Valley \, Missouri 64029\n\n\nRide Captain: \nJim Bailey\n816-797-9577\n\n\nSpecial Instructions: \nStaging 11:15 AM\nBriefing 11:30 AM\nVisitation 12:00 PM\nFuneral Service 1:00 PM\nMilitary Honors following service at the Chapel.\n(There will be no escort)\n\n\nFlags & Water:\nFlags will be provided\nLarge Bike Flags will NOT be needed.\nWater will be provided.\n\nSubmitted By: Jim Bailey \nPosition: Missouri Ride Captain \n\nNote: You do not have to own/ride a motorcycle or be a veteran to join\, and membership is Free. The only requirement is RESPECT! To subscribe to receive mission notices\, log into the National Site and click on the Members tab at the top. Select the Subscribe to PGR Missions option.\n Print This Page
URL:https://www.patriotguard.org/mission/norman-e-dungan/
CATEGORIES:Honor Mission
END:VEVENT
END:VCALENDAR