BEGIN:VCALENDAR
VERSION:2.0
PRODID:-//Patriot Guard Riders - ECPv5.3.2.1//NONSGML v1.0//EN
CALSCALE:GREGORIAN
METHOD:PUBLISH
X-WR-CALNAME:Patriot Guard Riders
X-ORIGINAL-URL:https://www.patriotguard.org
X-WR-CALDESC:Events for Patriot Guard Riders
BEGIN:VTIMEZONE
TZID:America/New_York
BEGIN:DAYLIGHT
TZOFFSETFROM:-0500
TZOFFSETTO:-0400
TZNAME:EDT
DTSTART:20190310T070000
END:DAYLIGHT
BEGIN:STANDARD
TZOFFSETFROM:-0400
TZOFFSETTO:-0500
TZNAME:EST
DTSTART:20191103T060000
END:STANDARD
END:VTIMEZONE
BEGIN:VEVENT
DTSTART;VALUE=DATE:20190601
DTEND;VALUE=DATE:20190602
DTSTAMP:20210405T044339
CREATED:20190530T155643Z
LAST-MODIFIED:20190530T155643Z
UID:163047-1559347200-1559433599@www.patriotguard.org
SUMMARY:Norman Basinger
DESCRIPTION:Honor Mission\nNorman Basinger\, Veteran\nUSN\nChina Grove\, North Carolina – 06-01-19\n\n\n\nABOUT THE MISSION: \nMr. Basinger was a Boiler-Operator on the USS Prichett DD-561.His son-in-law told me that Mr. Basinger told him a story of the ship being struck by a bomb or torpedo and damaged the bow of the ship. They had to go 300 miles in reverse to Hawaii to get back in to port.\n\n\nPRIMARY STAGING DETAILS: 06-01-19 \nStaging Time: 10:30  \nEbenezer Luthern Church\n34914 Old Beatty Ford Road\nChina Grove\, North Carolina\n\n\nRide Captain: \nLarry Kecthie\n704-640-9543\n\n\nSpecial Instructions: \n10:45 Brief\nWe will stand a flag line for family and friends arrival\n11:00 AM visitation\n12:00 Noon service at church\nAfter the service we will escort Mr. Basinger to Carolina Memorial in Concord\n\n\nFlags & Water:\nFlags will be provided\nIf you have large bike flags\, please bring them.\nWater WILL NOT be provided\, please bring your own.\n\nSubmitted By: cw smith \nPosition: North Carolina Ride Captain \n\nNote: You do not have to own/ride a motorcycle or be a veteran to join\, and membership is Free. The only requirement is RESPECT! To subscribe to receive mission notices\, log into the National Site and click on the Members tab at the top. Select the Subscribe to PGR Missions option.\n Print This Page
URL:https://www.patriotguard.org/mission/norman-basinger/
CATEGORIES:Honor Mission
END:VEVENT
END:VCALENDAR