BEGIN:VCALENDAR
VERSION:2.0
PRODID:-//Patriot Guard Riders - ECPv5.3.2.1//NONSGML v1.0//EN
CALSCALE:GREGORIAN
METHOD:PUBLISH
X-WR-CALNAME:Patriot Guard Riders
X-ORIGINAL-URL:https://www.patriotguard.org
X-WR-CALDESC:Events for Patriot Guard Riders
BEGIN:VTIMEZONE
TZID:America/New_York
BEGIN:DAYLIGHT
TZOFFSETFROM:-0500
TZOFFSETTO:-0400
TZNAME:EDT
DTSTART:20160313T070000
END:DAYLIGHT
BEGIN:STANDARD
TZOFFSETFROM:-0400
TZOFFSETTO:-0500
TZNAME:EST
DTSTART:20161106T060000
END:STANDARD
END:VTIMEZONE
BEGIN:VEVENT
DTSTART;TZID=America/New_York:20160113T090000
DTEND;TZID=America/New_York:20160113T110000
DTSTAMP:20210403T023427
CREATED:20160113T140000Z
LAST-MODIFIED:20191201T153300Z
UID:414993-1452675600-1452682800@www.patriotguard.org
SUMMARY:Nolie Howard Covery\, USA
DESCRIPTION:We have been invited to attend the Funeral of SP4 Nolie Howard Covery\, \nVeteran\, US Army\, Vietnam.\n\nInterment 1300 (1 pm) 13 Jan at Veterans Memorial Cemetery\n                                                   2830 Riverside Parkway\n                                                   Grand Junction\, CO\n\nStage 12:15 pm at Shelter Area\nRide Captain   Bob Werner\n\n—\nArt Edwards\nWestern Slope\, CO Assist State Captain
URL:https://www.patriotguard.org/mission/nolie-howard-covery-usa/
CATEGORIES:Archive
END:VEVENT
END:VCALENDAR