BEGIN:VCALENDAR
VERSION:2.0
PRODID:-//Patriot Guard Riders - ECPv5.3.2.1//NONSGML v1.0//EN
CALSCALE:GREGORIAN
METHOD:PUBLISH
X-WR-CALNAME:Patriot Guard Riders
X-ORIGINAL-URL:https://www.patriotguard.org
X-WR-CALDESC:Events for Patriot Guard Riders
BEGIN:VTIMEZONE
TZID:America/New_York
BEGIN:DAYLIGHT
TZOFFSETFROM:-0500
TZOFFSETTO:-0400
TZNAME:EDT
DTSTART:20190310T070000
END:DAYLIGHT
BEGIN:STANDARD
TZOFFSETFROM:-0400
TZOFFSETTO:-0500
TZNAME:EST
DTSTART:20191103T060000
END:STANDARD
END:VTIMEZONE
BEGIN:VEVENT
DTSTART;VALUE=DATE:20190904
DTEND;VALUE=DATE:20190905
DTSTAMP:20210401T114440
CREATED:20190902T162433Z
LAST-MODIFIED:20190902T162433Z
UID:172377-1567555200-1567641599@www.patriotguard.org
SUMMARY:No One Attending Memorial Service
DESCRIPTION:Honor Mission\nNo One Attending Memorial Service\nFort Gibson\, Oklahoma – 09-04-19\n\n\n\nABOUT THE MISSION: \nThe Jack C Montgomery VA Medical Center and the Fort Gibson National Cemetery have invited the Patriot Guard Riders to stand with them and their “No One Attending” Memorial Service as they honor all Veterans interred at Fort Gibson National Cemetery during the month of August 2019 that had no family or friends attending their service. This will be a Flag/Respect Line at the Committal Shelter. This service will be held on Wednesday\, 04 September 2019 at 1500 hours. Please encourage all your friends and family to be a part of this service and services like this throughout our country.\n\n\nPRIMARY STAGING DETAILS: 09-04-19 \nStaging Time: 2:30 pm  \nFort Gibson National Cemetery\n1423 Cemetery Rd\nFort Gibson\, Oklahoma\n\n\nRide Captain: \nMike “Penni” Pennington\nwmp8843@cox.net\n918-557-1030\n\n\nSpecial Instructions: \nMandatory Briefing: 2:35 PM\nWeather: Forecast high of 88 and sunny\n\n\nFlags & Water:\nFlags will be provided\nLarge Bike Flags will NOT be needed.\nWater WILL NOT be provided\, please bring your own.\n\nSubmitted By: William Pennington \nPosition: Oklahoma Ride Captain \n\nNote: You do not have to own/ride a motorcycle or be a veteran to join\, and membership is Free. The only requirement is RESPECT! To subscribe to receive mission notices\, log into the National Site and click on the Members tab at the top. Select the Subscribe to PGR Missions option.\n Print This Page
URL:https://www.patriotguard.org/mission/no-one-attending-memorial-service-3/
CATEGORIES:Honor Mission
END:VEVENT
END:VCALENDAR