BEGIN:VCALENDAR
VERSION:2.0
PRODID:-//Patriot Guard Riders - ECPv5.3.2.1//NONSGML v1.0//EN
CALSCALE:GREGORIAN
METHOD:PUBLISH
X-WR-CALNAME:Patriot Guard Riders
X-ORIGINAL-URL:https://www.patriotguard.org
X-WR-CALDESC:Events for Patriot Guard Riders
BEGIN:VTIMEZONE
TZID:America/New_York
BEGIN:DAYLIGHT
TZOFFSETFROM:-0500
TZOFFSETTO:-0400
TZNAME:EDT
DTSTART:20190310T070000
END:DAYLIGHT
BEGIN:STANDARD
TZOFFSETFROM:-0400
TZOFFSETTO:-0500
TZNAME:EST
DTSTART:20191103T060000
END:STANDARD
END:VTIMEZONE
BEGIN:VEVENT
DTSTART;VALUE=DATE:20190911
DTEND;VALUE=DATE:20190912
DTSTAMP:20210401T104726
CREATED:20190910T034908Z
LAST-MODIFIED:20190910T034908Z
UID:173350-1568160000-1568246399@www.patriotguard.org
SUMMARY:Nick Velis
DESCRIPTION:Honor Mission\nNick Velis\, Retired\, Veteran\nUSA – Vietnam\nSouth Ogden\, Utah – 09-11-19\n\n\n\nABOUT THE MISSION: \nThe Patriot Guard Riders have been requested to stand a flag line for Nick Velis. Nick Velis served in the U.S. Army during the Vietnam War. Nick Velis received 3 Bronze Stars\, 2 with “V” device and a Purple Heart. This will be a veteran’s format. Thank you\, Nick Velis\, for your service. Anyone attending in a cage and willing to transport flags please contact Craig Petith.\n\n\nPRIMARY STAGING DETAILS: 09-11-19 \nStaging Time: 11:00 AM\n \nShell\n495 40th St\nSouth Ogden\, Utah\n\n\nRide Captain: \nCraig Petith\n435-760-6764\n\n\nSpecial Instructions: \nKSU: 11:30 AM\nService will be at Holy Transfiguration Greek Orthodox Church on 674 42nd St in Ogden at 11:00 AM.\nWe will stand a flag line at the church and then escort Nick Velis to his final resting place in the Mount Olivet Cemetery\, 1342 E 500 S\, Salt Lake City\, where we will stand another flag line.\nWeather: Cloudy with a 80% chance of showers and a high of 61.\nPlease dress accordingly and keep yourself hydrated.\n\n\nFlags & Water:\nFlags will be provided\nIf you have large bike flags\, please bring them.\nWater WILL NOT be provided\, please bring your own.\n\n\n\nSubmitted By: Dave Richardson \nPosition: Utah State Captain \n\nNote: You do not have to own/ride a motorcycle or be a veteran to join\, and membership is Free. The only requirement is RESPECT! To subscribe to receive mission notices\, log into the National Site and click on the Members tab at the top. Select the Subscribe to PGR Missions option.\n Print This Page
URL:https://www.patriotguard.org/mission/nick-velis/
CATEGORIES:Honor Mission
END:VEVENT
END:VCALENDAR