BEGIN:VCALENDAR
VERSION:2.0
PRODID:-//Patriot Guard Riders - ECPv5.3.2.1//NONSGML v1.0//EN
CALSCALE:GREGORIAN
METHOD:PUBLISH
X-WR-CALNAME:Patriot Guard Riders
X-ORIGINAL-URL:https://www.patriotguard.org
X-WR-CALDESC:Events for Patriot Guard Riders
BEGIN:VTIMEZONE
TZID:America/New_York
BEGIN:DAYLIGHT
TZOFFSETFROM:-0500
TZOFFSETTO:-0400
TZNAME:EDT
DTSTART:20190310T070000
END:DAYLIGHT
BEGIN:STANDARD
TZOFFSETFROM:-0400
TZOFFSETTO:-0500
TZNAME:EST
DTSTART:20191103T060000
END:STANDARD
END:VTIMEZONE
BEGIN:VEVENT
DTSTART;VALUE=DATE:20190726
DTEND;VALUE=DATE:20190727
DTSTAMP:20210404T054453
CREATED:20190723T140357Z
LAST-MODIFIED:20190723T140357Z
UID:168526-1564099200-1564185599@www.patriotguard.org
SUMMARY:Nicholas Talia
DESCRIPTION:Honor Mission\nNicholas Talia\nUSN – WoT\nDallas\, Texas – 07-26-19\n\n\n\nABOUT THE MISSION: \nInurnment Service.\n\n\nPRIMARY STAGING DETAILS: 07-26-19 \nStaging Time: 10:30 AM\n \nDFW National Cemetery Visitors Center\n2000 Mountain Creek Pkwy\nDallas\, Texas 75211\n\n\nRide Captain: \nMike Flocken\nmikefl@flash.net\n(214) 458-4473\n\n\nSpecial Instructions: \nStaging Time: 10:30\nBriefing Time: 10:45\nIn Position/KSU Time: 11:00\nStarting Time: 11:15\nFlag bikes will be chosen and relocated to the assigned staging lane. Remaining riders will proceed on to the shelter to set flags and prepare for the arrival of the procession bringing Mr. Nicholas Talia\, his family and friends. At the conclusion of the service\, and at the direction of the ride captain\, the flags will be retrieved and returned to the shelter storage area where they will be furled and stowed. After the post mission brief\, all riders will be dismissed.\n\n\nFlags & Water:\nFlags will be provided\nIf you have large bike flags\, please bring them.\nWater WILL NOT be provided\, please bring your own.\n\n\n\nSubmitted By: Dan Mathys \nPosition: Texas Ride Captain \n\nNote: You do not have to own/ride a motorcycle or be a veteran to join\, and membership is Free. The only requirement is RESPECT! To subscribe to receive mission notices\, log into the National Site and click on the Members tab at the top. Select the Subscribe to PGR Missions option.\n Print This Page
URL:https://www.patriotguard.org/mission/nicholas-talia/
CATEGORIES:Honor Mission
END:VEVENT
END:VCALENDAR