BEGIN:VCALENDAR
VERSION:2.0
PRODID:-//Patriot Guard Riders - ECPv5.6.0//NONSGML v1.0//EN
CALSCALE:GREGORIAN
METHOD:PUBLISH
X-WR-CALNAME:Patriot Guard Riders
X-ORIGINAL-URL:https://www.patriotguard.org
X-WR-CALDESC:Events for Patriot Guard Riders
BEGIN:VTIMEZONE
TZID:America/New_York
BEGIN:DAYLIGHT
TZOFFSETFROM:-0500
TZOFFSETTO:-0400
TZNAME:EDT
DTSTART:20160313T070000
END:DAYLIGHT
BEGIN:STANDARD
TZOFFSETFROM:-0400
TZOFFSETTO:-0500
TZNAME:EST
DTSTART:20161106T060000
END:STANDARD
END:VTIMEZONE
BEGIN:VEVENT
DTSTART;TZID=America/New_York:20160627T090000
DTEND;TZID=America/New_York:20160627T110000
DTSTAMP:20210512T131422
CREATED:20160627T130000Z
LAST-MODIFIED:20191201T144811Z
UID:411025-1467018000-1467025200@www.patriotguard.org
SUMMARY:Nicholas Males\, 28\, USMC Veteran / San Jaccinto
DESCRIPTION:Nicholas “Nick” Males\, 28\nUSMC Veteran\nSan Jacinto\, Riverside\, CA\n27 JUN 16\n\n\n\nThe family of Nicholas “Nick” Males has requested the presence of the Patriot Guard Riders to honor this American Hero; it will be our honor to do so. \nNick was born on December 22\, 1987 to Cynthia Garza and Joe Selso Males in Whittier\, California. \nNick proudly served in the United States Marine Corps from 2010 to 2015. He was with the 15th Marine Expedition Unit in non-combat support deployment serving on the US Peleliu\, USS Pearl Harbor and the USS Dubuque. Nick had earned the rank of Corporal at the time of his honorable discharge. \nHe enjoyed riding his Harley and cruising in his 1951 Chevy\, but the most and best thing about him was that he loved his family. \nNick is survived by his three children\, two brothers\, sister\, parents\, as well as many other family members and friends who will love and miss him dearly.. \nNOTE: The family has requested that we wear the color purple somewhere on your dress to show respect for their loved one. Nick’s favorite color was purple. \nNOTE: This mission posting is to facilitate your voluntary participation in honoring this Military Veteran. For those interested\, and all are welcome\, we will be accompanying the hero and his family from the mortuary to his final resting place. Please see the time table if you would like to participate. For those who would rather go directly to the cemetery\, we will meet you there. \nThe weather is predicted to be hot so please stay hydrated and don’t forget to eat; it can make a difference with your ability to withstand the heat. \nTime Table for Monday 27 June 2016: \n0930 – Stage at:\n412 Church\n1450 W 7th St.\nSan Jacinto\, CA 92582\nhttps://goo.gl/maps/mfcvV6vMXHD2 \n1000 – Mission Briefing \n1015 – Flag line as our Hero is moved to the transport vehicle \n1030 – KSU to Riverside National Cemetery\nStaging Area for family is Staging Area #8\, north of Staging Area #8 for PGR)\n22495 Van Buren Blvd.\nRiverside\, CA 92518\nhttp://goo.gl/maps/v0K0E \n1131 – KSU to assigned shelter for Flag line\, Service and Military Honors. \nRC: Ray “T-Bone” Gould\n951-634-4112\nray@gouldgps.com \nYou do not have to be a Veteran or a motorcycle rider to attend this mission. Everyone is welcome. We encourage those who do not ride to attend in your car. If this will be your first mission go to the initial staging area and you will be briefed there by the R/C (Ride Captain). Dress for motorcycle riding or dress casually if you are driving a cage (car). Please feel free to attend any portion of this mission you can.
URL:https://www.patriotguard.org/mission/nicholas-males-28-usmc-veteran-san-jaccinto/
CATEGORIES:Archive
END:VEVENT
END:VCALENDAR