BEGIN:VCALENDAR
VERSION:2.0
PRODID:-//Patriot Guard Riders - ECPv5.3.2.1//NONSGML v1.0//EN
CALSCALE:GREGORIAN
METHOD:PUBLISH
X-WR-CALNAME:Patriot Guard Riders
X-ORIGINAL-URL:https://www.patriotguard.org
X-WR-CALDESC:Events for Patriot Guard Riders
BEGIN:VTIMEZONE
TZID:America/New_York
BEGIN:DAYLIGHT
TZOFFSETFROM:-0500
TZOFFSETTO:-0400
TZNAME:EDT
DTSTART:20190310T070000
END:DAYLIGHT
BEGIN:STANDARD
TZOFFSETFROM:-0400
TZOFFSETTO:-0500
TZNAME:EST
DTSTART:20191103T060000
END:STANDARD
END:VTIMEZONE
BEGIN:VEVENT
DTSTART;VALUE=DATE:20190328
DTEND;VALUE=DATE:20190329
DTSTAMP:20210405T174725
CREATED:20190325T220734Z
LAST-MODIFIED:20190325T220827Z
UID:154679-1553731200-1553817599@www.patriotguard.org
SUMMARY:Nicholas Anthony Ross
DESCRIPTION:Honor Mission\nNicholas Anthony Ross\, Active Duty\nUSA –\nMULTI-CITY\, California – 03-28-19\n\n\n \n\nABOUT THE MISSION: \nThe family and the US Army have invited the Patriot Guard Riders to be present for this Hero’s funeral services. We will honored to be there for this Hero and his family. PV1 Nicholas Anthony Ross\, age 19\, enlisted in the US Army 7 months ago. He passed away unexpectedly in his quarters. NOTE: This mission posting is to facilitate your voluntary participation in honoring this American Hero. For those interested\, and all are welcome\, we will be accompanying the hero and his family from the mortuary to the church and back to the cemetery. Please see the time table if you would like to participate. You are welcome to attend any portion of this mission that you are able to attend.\n\n\nPRIMARY STAGING DETAILS: 03-28-19 \nStaging Time: 08:00 AM\n \nForest Lawn Mortuary\n4471 Lincoln Ave.\nCypress\, California 90630\nMap\n\n\nRide Captain: \nDavid Grubb\ndairymandave722510@gmail.com\n714-853-0410 cell\n\n\nSpecial Instructions: \n0800 – Stage\n0830 – Briefing\n0845 – Flag Line for dignified transfer of Hero to coach\n0900 – KSU to St. Peter Chanel Catholic Church\, 12001 214th St.\, Hawaiian Gardens\, CA 90716.\nMap\n0915 – Arrival to Church\n0930 – Flag Line for dignified transfer of Hero to Church\n1000 – Service begins\n1100 – Flag Line for dignified transfer of Hero to coach\n1115 – KSU to Forest Lawn Cemetery\, 4471 Lincoln Ave.\, Cypress\, CA 90630.\nMap\n1130 – Flag Line and Military honors at graveside\n\n\nFlags & Water:\nFlags will not be provided\nIf you have large bike flags\, please bring them.\nWater WILL NOT be provided\, please bring your own.\n\n\n\nSubmitted By: Beth Allen \nPosition: California Ride Captain \n\nNote: You do not have to own/ride a motorcycle or be a veteran to join\, and membership is Free. The only requirement is RESPECT! To subscribe to receive mission notices\, log into the National Site and click on the Members tab at the top. Select the Subscribe to PGR Missions option.\n Print This Page
URL:https://www.patriotguard.org/mission/nicholas-anthony-ross/
CATEGORIES:Honor Mission
END:VEVENT
END:VCALENDAR