BEGIN:VCALENDAR
VERSION:2.0
PRODID:-//Patriot Guard Riders - ECPv5.3.2.1//NONSGML v1.0//EN
CALSCALE:GREGORIAN
METHOD:PUBLISH
X-WR-CALNAME:Patriot Guard Riders
X-ORIGINAL-URL:https://www.patriotguard.org
X-WR-CALDESC:Events for Patriot Guard Riders
BEGIN:VTIMEZONE
TZID:America/New_York
BEGIN:DAYLIGHT
TZOFFSETFROM:-0500
TZOFFSETTO:-0400
TZNAME:EDT
DTSTART:20180311T070000
END:DAYLIGHT
BEGIN:STANDARD
TZOFFSETFROM:-0400
TZOFFSETTO:-0500
TZNAME:EST
DTSTART:20181104T060000
END:STANDARD
END:VTIMEZONE
BEGIN:VEVENT
DTSTART;VALUE=DATE:20180913
DTEND;VALUE=DATE:20180914
DTSTAMP:20210404T110039
CREATED:20180908T144032Z
LAST-MODIFIED:20180908T144032Z
UID:133333-1536796800-1536883199@www.patriotguard.org
SUMMARY:Nelson Crull Weller
DESCRIPTION:Honor Mission\nNelson Crull Weller\nUSA – WWII\nMaxwell\, Nebraska – 09-13-18\n\n\n\n\nABOUT THE MISSION: \nThe family of veteran Nelson Crull Weller\, 92\, USA\, has requested the Patriot Guard Riders participate in his committal shelter service.  As a young man\, Nelson entered into the U.S. Army at the height of WWII and bravely served to the war’s end. He served 18 months on Ascension Island in the South Atlantic and was the recipient of the European-African-Middle Eastern Theater Ribbon\, the American Theater Ribbon\, Good Conduct Medal\, and the World War II Victory Medal.\n\n\nPRIMARY STAGING DETAILS: 09-13-18 \nStaging Time:  1:00 p.m. \nFt. McPherson Cemetery\n12004 S Spur 56 A\nMaxwell\, Nebraska 69151\n\n\nRide Captain: \nGary Smith\nnebpreacher@yahoo.com\n308-530-5264\n\n\n\nSpecial Instructions: \nRiders’ meeting:  1:30 pm\nFlag line:  1:45 pm\nFuneral service:  2:00 pm\n\nAssisting:  Henry Russell\, hrussell1648@gmail.com\, 308-530-9836; Clara Jobman\, gopherhills@prarieinet.net\, 308-660-0083\n\n\nFlags & Water:\nFlags will be provided\nLarge Bike Flags will NOT be needed.\nWater WILL NOT be provided\, please bring your own.\n\n\n\nSubmitted By: Scott Knudsen \nPosition: Nebraska State Captain \n\nNote: You do not have to own/ride a motorcycle or be a veteran to join\, and membership is Free. The only requirement is RESPECT! To subscribe to receive mission notices\, log into the National Site and click on the Members tab at the top. Select the Subscribe to PGR Missions option.\n Print This Page
URL:https://www.patriotguard.org/mission/nelson-crull-weller/
CATEGORIES:Honor Mission
END:VEVENT
END:VCALENDAR