BEGIN:VCALENDAR
VERSION:2.0
PRODID:-//Patriot Guard Riders - ECPv5.3.2.1//NONSGML v1.0//EN
CALSCALE:GREGORIAN
METHOD:PUBLISH
X-WR-CALNAME:Patriot Guard Riders
X-ORIGINAL-URL:https://www.patriotguard.org
X-WR-CALDESC:Events for Patriot Guard Riders
BEGIN:VTIMEZONE
TZID:America/New_York
BEGIN:DAYLIGHT
TZOFFSETFROM:-0500
TZOFFSETTO:-0400
TZNAME:EDT
DTSTART:20190310T070000
END:DAYLIGHT
BEGIN:STANDARD
TZOFFSETFROM:-0400
TZOFFSETTO:-0500
TZNAME:EST
DTSTART:20191103T060000
END:STANDARD
END:VTIMEZONE
BEGIN:VEVENT
DTSTART;VALUE=DATE:20190726
DTEND;VALUE=DATE:20190727
DTSTAMP:20210404T034101
CREATED:20190723T094443Z
LAST-MODIFIED:20190723T094443Z
UID:168549-1564099200-1564185599@www.patriotguard.org
SUMMARY:Neil Burke
DESCRIPTION:<\n\nHonor Mission\nNeil Burke\, Veteran\nUSN\, USNR\nMesa\, Arizona – 07-26-19\n\n\n\nABOUT THE MISSION: \nThe mission today is both an Honor Mission and a Celebration of Life to honor Neil Burke who served honorably in the USN.\nNeil served for 2 years in the active Navy and continued his service to our nation in the USNR for 4 additional years. He served on the USS Midway.\n\n\nPRIMARY STAGING DETAILS: 07-26-19 \nStaging Time: 12:15 PM  \nMesa Buckhorn Elks Lodge\n6718 E Avalon St\nMesa\, Arizona 85205\n\n\nRide Captain: \nDan Lazear\n480-223-8628\nazpgrdan@gmail.com\n\n\nSpecial Instructions: \nFlag Line Set: 12:30 PM\nMilitary Honors: 1:00 PM\nCircle of Honor: TBA\nFollowing the arrival of family and friends the flag line will move inside for military honors.\nAt the conclusion of military honors\, the mission will be completed.\n\n\nFlags & Water:\nFlags will be provided\nIf you have large bike flags\, please bring them.\nWater will be provided.\n\n\n\nSubmitted By: Mike Sullivan \nPosition: Arizona Assistant State Captain \n\nNote: You do not have to own/ride a motorcycle or be a veteran to join\, and membership is Free. The only requirement is RESPECT! To subscribe to receive mission notices\, log into the National Site and click on the Members tab at the top. Select the Subscribe to PGR Missions option.\n Print This Page
URL:https://www.patriotguard.org/mission/neil-burke/
CATEGORIES:Honor Mission
END:VEVENT
END:VCALENDAR