BEGIN:VCALENDAR
VERSION:2.0
PRODID:-//Patriot Guard Riders - ECPv5.3.2.1//NONSGML v1.0//EN
CALSCALE:GREGORIAN
METHOD:PUBLISH
X-WR-CALNAME:Patriot Guard Riders
X-ORIGINAL-URL:https://www.patriotguard.org
X-WR-CALDESC:Events for Patriot Guard Riders
BEGIN:VTIMEZONE
TZID:America/New_York
BEGIN:DAYLIGHT
TZOFFSETFROM:-0500
TZOFFSETTO:-0400
TZNAME:EDT
DTSTART:20180311T070000
END:DAYLIGHT
BEGIN:STANDARD
TZOFFSETFROM:-0400
TZOFFSETTO:-0500
TZNAME:EST
DTSTART:20181104T060000
END:STANDARD
END:VTIMEZONE
BEGIN:VEVENT
DTSTART;TZID=America/New_York:20180330T130000
DTEND;TZID=America/New_York:20180330T150000
DTSTAMP:20210406T115344
CREATED:20180330T170000Z
LAST-MODIFIED:20191201T034946Z
UID:345412-1522414800-1522422000@www.patriotguard.org
SUMMARY:Ned Foster\, Veteran\, USA
DESCRIPTION:Honor Mission \nNed Foster\, Veteran\nUSA\nMansfield\, Texas – 30 Mar 2018\n\n\n[HR][/HR]\nABOUT THE MISSION: \n\nMr. Foster served in the Army 3 Years July 1953 – July 1956. \nThe family of Mr. Ned Foster has asked the Patriot Guard Riders to honor his service to our country by standing two  flag lines\, one at his funeral in Mansfield TX\, then again at his interment service at the Mansfield Cemetery.\n \n\nPRIMARY STAGING DETAILS:  30 Mar 2018\nPrimary Staging Time: 1:00 P.M. \n\nBlessings Funeral Home Chapel\n401 Elm St.\nMansfield\, Texas – 76063\nhttps://goo.gl/maps/Xd3TK4curM82\n\n\nRide Captain: \n\nBrian Liberty\nLabliberty@yahoo.com\n(979) 702-9097\n\n\nSpecial Instructions: \n\nThe PGR will stage at Blessing Funeral Home Chapel\, flags will be set\, riders will be given the mission brief and prepare to receive the family and friends of SGT Ned Foster. After the service begins\, flags will be furled\, returned to the support vehicle\, then the riders will be debriefed and dismissed.\n\n\nFlags & Water: \n\nFlags Will Be Provided\nLarge Bike Flags will NOT be needed.\nWater will be provided.\n\n[HR][/HR]STAGING #2 DETAILS: 30 Mar\, 2018\nStaging #2 Time:  2:30 P.M. \n\nMansfield City Cemetery\n299 Cemetery Rd.\nMansfield\, Texas – 76063\nhttps://goo.gl/maps/6mVCXrQcDHz\n\n\nRide Captain: \n\nBrian Liberty\nLabliberty@yahoo.com\n(979) 702-9097\n\n\nSpecial Instructions: \n\nRiders that relocate to the Mansfield City Cemetery will prepare the flag line\, then take up positions again on the flag line before the family and friends of SGT Foster arrive. After the interment service\, flags will be furled and returned to the support vehicle\, riders debriefed and dismissed.\n\n\nFlags & Water: \n\nFlags Will Be Provided\nLarge Bike Flags will NOT be needed\nWater will be provided.\n\nSubmitted By: Ted Waldron\nPosition: Ride Captain\n[HR][/HR]Note:\nYou do not have to own/ride a motorcycle or be a Veteran to join and membership is Free. The only requirement is RESPECT! To join\, simply go to www.PatriotGuard.org and click on Register. Membership is Free. \nTo subscribe to receive mission notices\, log into the National Site and click on the Mission Tab at the top. Select the Subscribe to Missions option.
URL:https://www.patriotguard.org/mission/ned-foster-veteran-usa/
END:VEVENT
END:VCALENDAR