BEGIN:VCALENDAR
VERSION:2.0
PRODID:-//Patriot Guard Riders - ECPv5.3.2.1//NONSGML v1.0//EN
CALSCALE:GREGORIAN
METHOD:PUBLISH
X-WR-CALNAME:Patriot Guard Riders
X-ORIGINAL-URL:https://www.patriotguard.org
X-WR-CALDESC:Events for Patriot Guard Riders
BEGIN:VTIMEZONE
TZID:America/New_York
BEGIN:DAYLIGHT
TZOFFSETFROM:-0500
TZOFFSETTO:-0400
TZNAME:EDT
DTSTART:20190310T070000
END:DAYLIGHT
BEGIN:STANDARD
TZOFFSETFROM:-0400
TZOFFSETTO:-0500
TZNAME:EST
DTSTART:20191103T060000
END:STANDARD
END:VTIMEZONE
BEGIN:VEVENT
DTSTART;VALUE=DATE:20190621
DTEND;VALUE=DATE:20190622
DTSTAMP:20210405T122149
CREATED:20190619T193640Z
LAST-MODIFIED:20190619T194216Z
UID:165262-1561075200-1561161599@www.patriotguard.org
SUMMARY:Neal David Page
DESCRIPTION:Honor Mission\nNeal David Page\, Veteran\nUSN\nMULTI-CITY\, Oregon – 06-21-19\n\n\n\nABOUT THE MISSION: \nLadies and Gentlemen of The Patriot Guard Riders\, We have been invited to participate in a graveside service\, honoring a U. S. Navy Reserve veteran\, Neal D. Page (77)\, of Richland\, Oregon. Mr Page served in the U. S. Navy and Navy Reserve from November of 1962\, until September\, 1965. He served as a Hospital Corpsman. Mr. Page\, rest in peace and thank you for your service.\n\n\nPRIMARY STAGING DETAILS: 06-21-19 \nStaging Time: 8:00 am  \nGem Stop Chevron Station\n2706 Island Ave\nLa Grande\, Oregon 97850\n\nMap\n\n\nRide Captain: \nLonnie (PhuLoc) Myers\n541-910-1061\nlonnie_myers@yahoo.com\n\n\nSpecial Instructions: \n8:18 am Briefing\n8:15 am KSU Approx. 80 miles to cemetery.\n\n\nFlags & Water:\n\nFlags will not be provided\nIf you have large bike flags\, please bring them.\nWater WILL NOT be provided\, please bring your own.\n\n\nSTAGING #2 DETAILS: 06-21-19 \nStaging Time: 10:15 am\n \nEagle Valley Cemetery\nFirst St\nRichland\, Oregon 97870\nMap\n\n\nRide Captain: \nLonnie (PhuLoc) Myers\n541-910-1061\nlonnie_myers@yahoo.com\n\n\nSpecial Instructions: \n10:15 am Arrive at Eagle Valley Cemetery\n10:30 am Establish flagline\n11:00 am Funeral service begins.\n\nWhen service concludes\, dismiss flagline and debrief @ site TBA\n*A few flags will be provided*\n\n\nFlags & Water:\n\nFlags will not be provided\nIf you have large bike flags\, please bring them.\nWater WILL NOT be provided\, please bring your own.\n\n\nSubmitted By: John Hanan II \nPosition: Oregon State Captain \n\nNote: You do not have to own/ride a motorcycle or be a veteran to join\, and membership is Free. The only requirement is RESPECT! To subscribe to receive mission notices\, log into the National Site and click on the Members tab at the top. Select the Subscribe to PGR Missions option.\n Print This Page
URL:https://www.patriotguard.org/mission/neal-david-page/
CATEGORIES:Honor Mission
END:VEVENT
END:VCALENDAR