BEGIN:VCALENDAR
VERSION:2.0
PRODID:-//Patriot Guard Riders - ECPv5.3.2.1//NONSGML v1.0//EN
CALSCALE:GREGORIAN
METHOD:PUBLISH
X-WR-CALNAME:Patriot Guard Riders
X-ORIGINAL-URL:https://www.patriotguard.org
X-WR-CALDESC:Events for Patriot Guard Riders
BEGIN:VTIMEZONE
TZID:America/New_York
BEGIN:DAYLIGHT
TZOFFSETFROM:-0500
TZOFFSETTO:-0400
TZNAME:EDT
DTSTART:20190310T070000
END:DAYLIGHT
BEGIN:STANDARD
TZOFFSETFROM:-0400
TZOFFSETTO:-0500
TZNAME:EST
DTSTART:20191103T060000
END:STANDARD
END:VTIMEZONE
BEGIN:VEVENT
DTSTART;VALUE=DATE:20190329
DTEND;VALUE=DATE:20190330
DTSTAMP:20210404T180152
CREATED:20190324T214953Z
LAST-MODIFIED:20190324T214953Z
UID:154695-1553817600-1553903999@www.patriotguard.org
SUMMARY:National Vietnam War Veterans Day
DESCRIPTION:Memorial\nNational Vietnam War Veterans Day\nBoise\, Idaho – 03-29-19\n\n\n\nABOUT THE MISSION:\n\nWe will stand a flag line to honor Idaho Vietnam Veterans during a recognition ceremony\, to be held on the Capitol steps in Boise on Friday\, the 29th of March at 12:00 noon. Governor Little will be signing a proclamation to have Idaho celebrate this day on a yearly basis.\n\n\nPRIMARY STAGING DETAILS: 03-29-19 \nStaging Time: 11:00 AM \nRite-Aid parking lot.\n1515 West State St. (Between 15th and 16th\, south side of State St)\nBoise\, Idaho\n\n\nRide Captain: \nDario Bell\n208-515-6959\ndariobell@cableone.net\n\n\nSpecial Instructions: \nBriefing 11:15 am.KSU 1130 am. Ride as a group to the Capitol.\nBike parking will be available in front of the Capitol.\nEstablish flag line prior to start of ceremony and dismiss upon conclusion.\n\nFlags & Water:\nFlags will not be provided\nIf you have large bike flags\, please bring them.\nWater WILL NOT be provided\, please bring your own.\n\n\n\nSubmitted By: Dario Bell \nPosition: Idaho State Captain \n\nNote: You do not have to own/ride a motorcycle or be a veteran to join\, and membership is Free. The only requirement is RESPECT! To subscribe to receive mission notices\, log into the National Site and click on the Members tab at the top. Select the Subscribe to PGR Missions option.\n Print This Page
URL:https://www.patriotguard.org/mission/national-vietnam-war-veterans-day/
CATEGORIES:Memorial
END:VEVENT
END:VCALENDAR