BEGIN:VCALENDAR
VERSION:2.0
PRODID:-//Patriot Guard Riders - ECPv5.3.2.1//NONSGML v1.0//EN
CALSCALE:GREGORIAN
METHOD:PUBLISH
X-WR-CALNAME:Patriot Guard Riders
X-ORIGINAL-URL:https://www.patriotguard.org
X-WR-CALDESC:Events for Patriot Guard Riders
BEGIN:VTIMEZONE
TZID:America/New_York
BEGIN:DAYLIGHT
TZOFFSETFROM:-0500
TZOFFSETTO:-0400
TZNAME:EDT
DTSTART:20190310T070000
END:DAYLIGHT
BEGIN:STANDARD
TZOFFSETFROM:-0400
TZOFFSETTO:-0500
TZNAME:EST
DTSTART:20191103T060000
END:STANDARD
END:VTIMEZONE
BEGIN:VEVENT
DTSTART;VALUE=DATE:20190714
DTEND;VALUE=DATE:20190715
DTSTAMP:20210403T195940
CREATED:20190712T151202Z
LAST-MODIFIED:20190712T151202Z
UID:167361-1563062400-1563148799@www.patriotguard.org
SUMMARY:Nation of Patriots Tour 2019
DESCRIPTION:HOTH Mission\nNation of Patriots Tour 2019\n–\nClovis\, New Mexico – 07-14-19\n\n\n\nABOUT THE MISSION: \nThe Patriot Guard Riders of New Mexico have been invited to honor the Nation of Patriots tour. The complete tour can be found at: https://www.nationofpatriots.com/nation-of-patriots-tour/.\nPlease check with your local Harley Davidson to see if there is any specific event planned.\nEveryone is welcome to join me at HPHD or catch up with the flag along the route.\n\n\nPRIMARY STAGING DETAILS: 07-14-19 \nStaging Time: 11:00 AM  \nHigh Plains Harley Davidson\n4400 Mabry Drive\nClovis\, New Mexico 88101\n\n\nRide Captain: \nDennis “Red Horse” Chalker\nredhorsepgr@yahoo.com\ndennis.chalker@yahoo.com\n575-799-4030\n\n\nSpecial Instructions: \nThe itinerary for Clovis is: Patriot Tour Flag will be coming to High Plains HD Sunday the 14th. It will leave Roswell at 9:30 am. Some of us are planning to meet up with them in Portales\, so if you want to be a part of it be at the ALLSUPS in Portales no later than 11: 00 am. It is the ALLSUPS at 2nd and S Ave. J\, next to the air force jet.\nThe Patriot Tour Flag should arrive at HPHD between 1100 and 1130.\nI’ll have my truck with flags and set a static display at 1100. \nOn Monday July 15th our very own HOG member Don Vining will have the honor of taking the flag to Wild West HD in Lubbock Tx. If you want to make the Monday run you will need to be at High Plains HD at 07:30 am.\nKick stands up at 08:00 am.\n\n\n\nFlags & Water:\nFlags will be provided\nLarge Bike Flags will NOT be needed.\nWater will be provided.\n\n\n\nSubmitted By: Dennis Chalker \nPosition: New Mexico Assistant State Captain \n\nNote: You do not have to own/ride a motorcycle or be a veteran to join\, and membership is Free. The only requirement is RESPECT! To subscribe to receive mission notices\, log into the National Site and click on the Members tab at the top. Select the Subscribe to PGR Missions option.\n Print This Page
URL:https://www.patriotguard.org/mission/nation-of-patriots-tour-2019/
CATEGORIES:HOTH Mission
END:VEVENT
END:VCALENDAR