BEGIN:VCALENDAR
VERSION:2.0
PRODID:-//Patriot Guard Riders - ECPv5.3.2.1//NONSGML v1.0//EN
CALSCALE:GREGORIAN
METHOD:PUBLISH
X-WR-CALNAME:Patriot Guard Riders
X-ORIGINAL-URL:https://www.patriotguard.org
X-WR-CALDESC:Events for Patriot Guard Riders
BEGIN:VTIMEZONE
TZID:America/New_York
BEGIN:DAYLIGHT
TZOFFSETFROM:-0500
TZOFFSETTO:-0400
TZNAME:EDT
DTSTART:20190310T070000
END:DAYLIGHT
BEGIN:STANDARD
TZOFFSETFROM:-0400
TZOFFSETTO:-0500
TZNAME:EST
DTSTART:20191103T060000
END:STANDARD
END:VTIMEZONE
BEGIN:VEVENT
DTSTART;TZID=America/New_York:20190618T000000
DTEND;TZID=America/New_York:20190618T000000
DTSTAMP:20210405T002112
CREATED:20190616T205219Z
LAST-MODIFIED:20190616T205219Z
UID:164914-1560816000-1560816000@www.patriotguard.org
SUMMARY:Nathaniel Truesdale
DESCRIPTION:Honor Mission\nNathaniel Truesdale\, Retired\, Veteran\nUSA –\nColumbia\, South Carolina – 06-18-19\n\n\n\nABOUT THE MISSION: \nThe family of Staff Sergeant Truesdale has requested the Patriot Guard Riders attend his final formation. We will be honored to do so. Sergeant Truesdale USA (Retired) served our country honorably for more than twenty years. This is a two-part mission.\n\n\nPRIMARY STAGING DETAILS: 06-18-19 \nStaging Time: 09:15 AM\n \nLeevy’s Funeral Home\n1831 Taylor St\nColumbia\, South Carolina 29201\nMap\n\n\nRide Captain: \nJames “Yoder” Christian\n(803) 463-3720\njdchristian@att.net\n\n\nSpecial Instructions: \nBriefing: 9:25 a.m.\nAfter the briefing\, establish a flag line until the start of the 10:00 a.m. service.\nWhen we stand down\, we will prepare to conduct an escort to Fort Jackson National Cemetery.\nFlags and Water: Mentor Sally “Taco” Christian.\n\n\nFlags & Water:\nFlags will be provided\nIf you have large bike flags\, please bring them.\nWater will be provided.\n\nSTAGING #2 DETAILS: 06-18-19 \nStaging Time: 11:15 AM\n \nFort Jackson National Cemetery\n4170 Percival Road\nColumbia\, South Carolina 29229\nMap\n\n\nRide Captain: \nJames “Yoder” Christian\n(803) 463-3720\njdchristian@att.net\n\n\nSpecial Instructions: \nBriefing: 11:30 a.m.\nMeet at the Administration building for the briefing.\nAfter the briefing\, move to the shelter and establish a flag line for the 12:00 noon service.\nFlags and Water: Mentor Sally “Taco” Christian.\n\n\nFlags & Water:\nFlags will be provided\nLarge Bike Flags will NOT be needed.\nWater will be provided.\n\n\n\nSubmitted By: L.Z. Harrison\, Jr. \nPosition: South Carolina Assistant State Captain \n\nNote: You do not have to own/ride a motorcycle or be a veteran to join\, and membership is Free. The only requirement is RESPECT! To subscribe to receive mission notices\, log into the National Site and click on the Members tab at the top. Select the Subscribe to PGR Missions option.\n Print This Page
URL:https://www.patriotguard.org/mission/nathaniel-truesdale/
CATEGORIES:Honor Mission
END:VEVENT
END:VCALENDAR