BEGIN:VCALENDAR
VERSION:2.0
PRODID:-//Patriot Guard Riders - ECPv5.3.2.1//NONSGML v1.0//EN
CALSCALE:GREGORIAN
METHOD:PUBLISH
X-WR-CALNAME:Patriot Guard Riders
X-ORIGINAL-URL:https://www.patriotguard.org
X-WR-CALDESC:Events for Patriot Guard Riders
BEGIN:VTIMEZONE
TZID:America/New_York
BEGIN:DAYLIGHT
TZOFFSETFROM:-0500
TZOFFSETTO:-0400
TZNAME:EDT
DTSTART:20190310T070000
END:DAYLIGHT
BEGIN:STANDARD
TZOFFSETFROM:-0400
TZOFFSETTO:-0500
TZNAME:EST
DTSTART:20191103T060000
END:STANDARD
END:VTIMEZONE
BEGIN:VEVENT
DTSTART;VALUE=DATE:20190803
DTEND;VALUE=DATE:20190804
DTSTAMP:20210402T102224
CREATED:20190802T003518Z
LAST-MODIFIED:20190802T003748Z
UID:169522-1564790400-1564876799@www.patriotguard.org
SUMMARY:Nathan Paul Shepherd
DESCRIPTION:Honor Mission\nNathan Paul Shepherd\, Veteran\n\n\nUSN\nWhitesboro\, Texas – 08-03-19\n\n\n \n\nABOUT THE MISSION: \nServicePO3 Nathan Paul Shepherd enlisted on November 11\, 2010. He served as a Nuclear Machinist aboard the USS Ronald Reagan (CVN 76) until his honorable discharge on April 28\, 2014.\n\n\nPRIMARY STAGING DETAILS: 08-03-19 \nStaging Time: 9:00 am\n \nMeador Funeral Home of Whitesboro\n401 Highway 377\nWhitesboro\, Texas 76273\n\n\nRide Captain: \nBill Kushnir\nbpkush@gte.net\n(214) 995-1536\n\n\nSpecial Instructions: \nBriefing Time 9:15 am\nIn Position/KSU Time 9:30 am\nStarting Time 10:00 am\nRiders will stage at the funeral home to be briefed and to stand tall and silent as family and friends arrive. After the service begins\, flags will be returned to the flag support vehicle which will depart for the cemetery to set flags along with riders who will not be riding in the procession. Procession riders will then receive a safety briefing and stage for the procession to the cemetery. Procession No Escort Provided\n\nFlags & Water:\nFlags will be provided\nIf you have large bike flags\, please bring them.\nWater will be provided.\n\nSTAGING #2 DETAILS: 08-03-19 \nStaging Time: 10:30 am\n \nSadler Cemetery\n8535 FM 907\nWhitesboro\, Texas 76273\n\n\nRide Captain: \nBill Kushnir\nbpkush@gte.net\n(214) 995-1536\n\n\nSpecial Instructions: \nBriefing Time 10:40 am\nIn Position/KSU Time 10:50 am\nStarting Time 11:00 am\nRiders not participating in Part One will stage at the cemetery to be briefed\, set flags and await the arrival of the procession. Riders in the procession will quickly dismount and join the flag line. Riders will stand tall and silent until the completion of the service\, after which flags will be returned to the flag support vehicle. Riders will then be debriefed and dismissed.NOTE: Time of arrival at cemetery is approximate\n\nFlags & Water:\nFlags will be provided\nLarge Bike Flags will NOT be needed.\nWater will be provided.\n\n\n\nSubmitted By: Dan Mathys \nPosition: Texas Ride Captain \n\nNote: You do not have to own/ride a motorcycle or be a veteran to join\, and membership is Free. The only requirement is RESPECT! To subscribe to receive mission notices\, log into the National Site and click on the Members tab at the top. Select the Subscribe to PGR Missions option.\n Print This Page
URL:https://www.patriotguard.org/mission/nathan-paul-shepherd/
CATEGORIES:Honor Mission
END:VEVENT
END:VCALENDAR