BEGIN:VCALENDAR
VERSION:2.0
PRODID:-//Patriot Guard Riders - ECPv5.3.2.1//NONSGML v1.0//EN
CALSCALE:GREGORIAN
METHOD:PUBLISH
X-WR-CALNAME:Patriot Guard Riders
X-ORIGINAL-URL:https://www.patriotguard.org
X-WR-CALDESC:Events for Patriot Guard Riders
BEGIN:VTIMEZONE
TZID:America/New_York
BEGIN:DAYLIGHT
TZOFFSETFROM:-0500
TZOFFSETTO:-0400
TZNAME:EDT
DTSTART:20190310T070000
END:DAYLIGHT
BEGIN:STANDARD
TZOFFSETFROM:-0400
TZOFFSETTO:-0500
TZNAME:EST
DTSTART:20191103T060000
END:STANDARD
END:VTIMEZONE
BEGIN:VEVENT
DTSTART;VALUE=DATE:20190612
DTEND;VALUE=DATE:20190613
DTSTAMP:20210405T010605
CREATED:20190607T152313Z
LAST-MODIFIED:20190607T152313Z
UID:163950-1560297600-1560383999@www.patriotguard.org
SUMMARY:Nathan Boehm
DESCRIPTION:HOTH Mission\nNathan Boehm\nWarner Robins\, Georgia – 06-12-19\n\n\n\n\nABOUT THE MISSION: \nMSgt Nathan Boehm is retiring from the USAF after 21 years of faithful service to our great country. He has invited us to participate in his retirement ceremony on June 12\, 2019 at the Century of Flight Building at the Air Museum in Warner Robins. Nathan has served several tours to include Desert Storm and the War on Terror. Nathan has stood missions with the Patriot Guard Riders.\n\n\nPRIMARY STAGING DETAILS: 06-12-19 \nStaging Time: 1:00 pm \nParking lot of the Air Museum\n1942 Heritage Blvd\nWarner Robins\, Georgia 31098\n\n\nRide Captain: \nBruce ‘FlagMaster’ Tamker\nbatamker@cox.net\n478-952-3400\n\n\nSpecial Instructions: \nAt 1:00 pm we will gather and brief the mission. We will stand a flag line at the door to welcome visitors until the ceremony begins at 2:00 pm. At that time we are invited to come in and observe the retirement ceremony. There will be refreshments following and we are invited to enjoy them. Nathan has stood with the PGR and it will be our honor to stand with him on this special occasion.\n\n\nFlags & Water:\n\nFlags will be provided\nLarge Bike Flags will NOT be needed.\nWater will be provided.\n\n\n\nSubmitted By: BRUCE TAMKER \nPosition: \n\nNote: You do not have to own/ride a motorcycle or be a veteran to join\, and membership is Free. The only requirement is RESPECT! To subscribe to receive mission notices\, log into the National Site and click on the Members tab at the top. Select the Subscribe to PGR Missions option.\n Print This Page
URL:https://www.patriotguard.org/mission/nathan-boehm/
CATEGORIES:HOTH Mission
END:VEVENT
END:VCALENDAR