BEGIN:VCALENDAR
VERSION:2.0
PRODID:-//Patriot Guard Riders - ECPv5.3.2.1//NONSGML v1.0//EN
CALSCALE:GREGORIAN
METHOD:PUBLISH
X-WR-CALNAME:Patriot Guard Riders
X-ORIGINAL-URL:https://www.patriotguard.org
X-WR-CALDESC:Events for Patriot Guard Riders
BEGIN:VTIMEZONE
TZID:America/New_York
BEGIN:DAYLIGHT
TZOFFSETFROM:-0500
TZOFFSETTO:-0400
TZNAME:EDT
DTSTART:20190310T070000
END:DAYLIGHT
BEGIN:STANDARD
TZOFFSETFROM:-0400
TZOFFSETTO:-0500
TZNAME:EST
DTSTART:20191103T060000
END:STANDARD
END:VTIMEZONE
BEGIN:VEVENT
DTSTART;VALUE=DATE:20190715
DTEND;VALUE=DATE:20190716
DTSTAMP:20210404T022710
CREATED:20190713T141108Z
LAST-MODIFIED:20190713T141108Z
UID:167458-1563148800-1563235199@www.patriotguard.org
SUMMARY:Murle Gene DeWeese
DESCRIPTION:Honor Mission\nMurle Gene DeWeese\, Retired\nUSN\, USAR – Vietnam\nMoberly\, Missouri – 07-15-19\n\n\n\n\nABOUT THE MISSION: \nThe family of Murle Gene DeWeese\, 79\, of Higbee\, MO.\, has requested the Patriot Guard Riders to stand in honor and to escort their loved one to his final resting place.  Murle proudly served his country with the US Army Reserves from 1957 to 1960 as a Private\, then on to the US Navy from 1960 to 1961\, earning the rank of SA (Seaman Apprentice) during the Vietnam War.\n\n\nPRIMARY STAGING DETAILS: 07-15-19 \nStaging Time: 09:45 am \nPathway Funeral Home\n411 Union Avenue\nMoberly\, Missouri 65270\n\n\nRide Captain: \nJan Watts\n660-349-9134\nliltyke.2355@gmail.com\n\n\nSpecial Instructions: \nFamily will be arriving at 10:00 am.\nFlag line from 10:00 to 11:00 am.  After services\, escort to Missouri Veterans Cemetery\, in Jacksonville\, MO for 12:00 noon time slot.  Hydrate\, hydrate\, hydrate.  Cages are always welcome.\n\nFlags & Water:\nFlags will be provided\nIf you have large bike flags\, please bring them.\nWater will be provided.\n\n\n\n\nSubmitted By: Jan Watts \nPosition: Missouri Ride Captain \n\nNote: You do not have to own/ride a motorcycle or be a veteran to join\, and membership is Free. The only requirement is RESPECT! To subscribe to receive mission notices\, log into the National Site and click on the Members tab at the top. Select the Subscribe to PGR Missions option.\n Print This Page
URL:https://www.patriotguard.org/mission/murle-gene-deweese/
CATEGORIES:Honor Mission
END:VEVENT
END:VCALENDAR