BEGIN:VCALENDAR
VERSION:2.0
PRODID:-//Patriot Guard Riders - ECPv5.6.0//NONSGML v1.0//EN
CALSCALE:GREGORIAN
METHOD:PUBLISH
X-WR-CALNAME:Patriot Guard Riders
X-ORIGINAL-URL:https://www.patriotguard.org
X-WR-CALDESC:Events for Patriot Guard Riders
BEGIN:VTIMEZONE
TZID:America/New_York
BEGIN:DAYLIGHT
TZOFFSETFROM:-0500
TZOFFSETTO:-0400
TZNAME:EDT
DTSTART:20160313T070000
END:DAYLIGHT
BEGIN:STANDARD
TZOFFSETFROM:-0400
TZOFFSETTO:-0500
TZNAME:EST
DTSTART:20161106T060000
END:STANDARD
END:VTIMEZONE
BEGIN:VEVENT
DTSTART;TZID=America/New_York:20160607T090000
DTEND;TZID=America/New_York:20160607T110000
DTSTAMP:20210513T133107
CREATED:20160607T130000Z
LAST-MODIFIED:20191201T145346Z
UID:411531-1465290000-1465297200@www.patriotguard.org
SUMMARY:MSgt Joseph M. Alfeche\, 62\, USAF (RET)
DESCRIPTION:Joseph Michael Alfeche\, 62\nUS Air Force\nPortland\, OR\n7/JUN/16\n\n\n\nLadies  and Gentlemen of the Patriot Guard Riders\, we have been requested to  stand for Joseph Michael Alfeche\, age 62. Joseph served from December  1975 to June 2007 as an Aircraft Communications and Navigations Systems  Specialist and was honorably discharged at the rank of MSgt (E-7). He  served in support of Desert Storm contingency (Southern Watch) in 1994  and Operation Noble Eagle in Utah during 2002. Joseph was awarded the  Air Force Achievement Medal\, Air Force Commendation Medal\, National  Defense Service Medal\, Southwest Asia Service Medal with 1 device\, Air  Force Longevity Service Award with 5 devices\, Air Force Training Ribbon\,  Armed Forces Reserve Medal w/M\, and the Air Force Outstanding Unit  Award with 3 devices.\nPlease join us as we help support his family\, pay  our respects\, and honor his service to our nation. \nMission Date: Tuesday\, 7/JUN/16\nRide Captain:  Nick Kinler moseby@comcast.net \nStaging Location:  Willamette National Cemetery – 11800 SE Mt Scott Blvd.\, Portland\, OR –  up top at the Rostrum by the flagpole\, please enter the cemetery through  Gate 2 – across from Lincoln Memorial. \nStaging Time: 11:00 am\nBriefing: 11:20 am\nKSU: 11:30 am\nFlagline Set:  11:45 am\nService Begins: 12:00 pm\nThere will be a RHG from the office to the shelter.
URL:https://www.patriotguard.org/mission/msgt-joseph-m-alfeche-62-usaf-ret/
CATEGORIES:Archive
END:VEVENT
END:VCALENDAR