BEGIN:VCALENDAR
VERSION:2.0
PRODID:-//Patriot Guard Riders - ECPv5.3.2.1//NONSGML v1.0//EN
CALSCALE:GREGORIAN
METHOD:PUBLISH
X-WR-CALNAME:Patriot Guard Riders
X-ORIGINAL-URL:https://www.patriotguard.org
X-WR-CALDESC:Events for Patriot Guard Riders
BEGIN:VTIMEZONE
TZID:America/New_York
BEGIN:DAYLIGHT
TZOFFSETFROM:-0500
TZOFFSETTO:-0400
TZNAME:EDT
DTSTART:20160313T070000
END:DAYLIGHT
BEGIN:STANDARD
TZOFFSETFROM:-0400
TZOFFSETTO:-0500
TZNAME:EST
DTSTART:20161106T060000
END:STANDARD
END:VTIMEZONE
BEGIN:VEVENT
DTSTART;TZID=America/New_York:20161212T090000
DTEND;TZID=America/New_York:20161212T110000
DTSTAMP:20210404T194758
CREATED:20161212T140000Z
LAST-MODIFIED:20191201T140723Z
UID:407215-1481533200-1481540400@www.patriotguard.org
SUMMARY:MSG Thomas E. Henderson\, USA(RET)
DESCRIPTION:updated 10 DEC 16@2115est ArmySSG \nThe family of Thomas E. Henderson has requested the Patriot Guard Riders stand in honor of their loved one at his final services\, this coming Monday\, 12 Dec 16. Thomas spent 21 years in the US Army and retired as a Master Sgt; he was a Vietnam Veteran\, as well. This mission will consist of a flag line one hour prior to the service\, an escort to the cemetery\, and a subsequent flag line there for the  interment service. When I spoke to his daughter this morning\, she said the family would very appreciative of anything we can do to honor her dad.\n\nStaging time: 0930-0950\, brief at 0955\, flag line in place by 1000.\n\nStaging location:\nTrinity Freewill Baptist Church\n2325 Johnstown Rd\nHuntington\, WV http://tinyurl.com/z8d2czx\n\nService: 1100\n\nEscort: Upon completion of the service\, we will escort to the Docks Creek Cemetery in Kenova\, WV\n\nRCIC:\nDave Shaffer\npdshaffer327@yahoo.com \nPOC:  Buddy Palla\ndeaconbiker@yahoo.com
URL:https://www.patriotguard.org/mission/msg-thomas-e-henderson-usaret/
CATEGORIES:Archive
END:VEVENT
END:VCALENDAR