BEGIN:VCALENDAR
VERSION:2.0
PRODID:-//Patriot Guard Riders - ECPv5.6.0//NONSGML v1.0//EN
CALSCALE:GREGORIAN
METHOD:PUBLISH
X-WR-CALNAME:Patriot Guard Riders
X-ORIGINAL-URL:https://www.patriotguard.org
X-WR-CALDESC:Events for Patriot Guard Riders
BEGIN:VTIMEZONE
TZID:America/New_York
BEGIN:DAYLIGHT
TZOFFSETFROM:-0500
TZOFFSETTO:-0400
TZNAME:EDT
DTSTART:20140309T070000
END:DAYLIGHT
BEGIN:STANDARD
TZOFFSETFROM:-0400
TZOFFSETTO:-0500
TZNAME:EST
DTSTART:20141102T060000
END:STANDARD
END:VTIMEZONE
BEGIN:VEVENT
DTSTART;TZID=America/New_York:20140709T090000
DTEND;TZID=America/New_York:20140709T110000
DTSTAMP:20210513T214540
CREATED:20140709T130000Z
LAST-MODIFIED:20191201T132622Z
UID:400875-1404896400-1404903600@www.patriotguard.org
SUMMARY:MSG Ronald Ziegler
DESCRIPTION:[FONT=&amp]PATRIOT GUARD RIDERS[/FONT]\n[FONT=&amp]YOUR PRESENCE HAS BEEN REQUESTED[/FONT]\n[FONT=&amp]Ronald Ziegler\, Master Sergeant[/FONT]\n[FONT=&amp]United States Army (Retired)[/FONT]\n[FONT=&amp]9 July 2014[/FONT]\n[FONT=&amp]Lenexa\, Kansas[/FONT]\n\n\n[FONT=&amp]The  family of Master Sergeant Ronald Ziegler\, has requested the Patriot  Guard Riders escort their loved one to his final resting place at the  Lenexa Cemetery in Lenexa\, Kansas on 9 July 2014. Master Sergeant  Ziegler spent 22 years in the United States Army as a paratrooper with  the 82nd Airborne Division.[/FONT]\n[FONT=&amp]The  escort for Mr. Ziegler will be from Porter Funeral Home\, 8535 Monrovia\,  Lenexa to Lenexa City Cemetery\, 8900 Pflumm Rd.\, Lenexa\, Kansas.  Details are below.[/FONT] \n[FONT=&amp]Staging: 9 Jul 14[/FONT]\n[FONT=&amp]0930 hrs. (9:30 am) – Stage and man flag line at Porter Funeral Home\, 8535 Monrovia\, Lenexa\, Kansas[/FONT]\n[FONT=&amp]0915 hrs. (9:15 am) – Briefing[/FONT]\n[FONT=&amp]0930 hrs. (9:30 am) – Man Flag Line[/FONT]\n[FONT=&amp]1030 hrs. (10:30 am) – Escort to Cemetery[/FONT] \n\n[FONT=&amp]Your Ride Captain for this mission is:\n[/FONT]\nNancy(PeeWee) Cassity\nnjcassi@embarqmail.com\n785-766-7247 \n\n[FONT=&amp]Thank you all for what you do[/FONT] \n\n[FONT=&amp]Bruce (Medic) Holmes[/FONT]\n[FONT=&amp]Assistant State Captain – Kansas\nbholmes5@kc.rr.com\n[/FONT]
URL:https://www.patriotguard.org/mission/msg-ronald-ziegler/
CATEGORIES:Archive
END:VEVENT
END:VCALENDAR