BEGIN:VCALENDAR
VERSION:2.0
PRODID:-//Patriot Guard Riders - ECPv5.6.0//NONSGML v1.0//EN
CALSCALE:GREGORIAN
METHOD:PUBLISH
X-WR-CALNAME:Patriot Guard Riders
X-ORIGINAL-URL:https://www.patriotguard.org
X-WR-CALDESC:Events for Patriot Guard Riders
BEGIN:VTIMEZONE
TZID:America/New_York
BEGIN:DAYLIGHT
TZOFFSETFROM:-0500
TZOFFSETTO:-0400
TZNAME:EDT
DTSTART:20160313T070000
END:DAYLIGHT
BEGIN:STANDARD
TZOFFSETFROM:-0400
TZOFFSETTO:-0500
TZNAME:EST
DTSTART:20161106T060000
END:STANDARD
END:VTIMEZONE
BEGIN:VEVENT
DTSTART;TZID=America/New_York:20160809T090000
DTEND;TZID=America/New_York:20160809T110000
DTSTAMP:20210512T015756
CREATED:20160809T130000Z
LAST-MODIFIED:20191201T143720Z
UID:410029-1470733200-1470740400@www.patriotguard.org
SUMMARY:MSG Robert VanAelst\, USA(RET) / Fort Worth
DESCRIPTION:Patriot’s Name: MSG Robert VanAelst\nMilitary Branch: United States Army\nClassification: Retired From Military\nAdditional Military Info: 3 Tours in Germany \nLink To Obituary: https://www.legacy.com/obituaries/dfw/obituary.aspx?n=robert-f-van-aelst&pid=180999778 \nMission Ride Captain:\nDan “Mad Russian” Mathys\npgrdan1@gmail.com\n(817)300-5542 \nRide Captain #2:\nJeffrey Wike (In Training)\nasm757@att.net\n(817)301-4293 \nMission Summary: The family of MSG Robert VanAelst has invited the Patriot Guard Riders to stand a Flag Line at his funeral service and again stand a Flag Line at his interment service. \nPART 1:    Funeral Service – Longvue Baptist Church at 1100 Hrs\, Tuesday\, August 9\, 2016\nMission Date: Aug 09\, 2016 – Tuesday\nStaging Time: 10:00\nBriefing Time: 10:15\nIn Position Time Or KSU: 10:30\nService Start Time: 11:00 \nDetails Of Part 1: After the Mission Briefing\, the Riders will establish the Flag Line and prepare to receive the family and guests for the funeral service.\nName Of Staging Point:\nLongvue Baptist Church\n3420 Longvue Ave\nFort Worth\, Texas 76116 \nPART 2:    Interment Service – Dallas Fort Worth National Cemetery at 1330 Hrs.\, August\, 9\, 2016\nMission Date: Aug 09\, 2016 – Tuesday\nStaging Time: 12:45\nBriefing Time: 13:00\nIn Position Time Or KSU: 13:15\nService Start Time: 13:30 \nDetails Of Part 2: Staging will be at the Dallas Fort Worth National Cemetery Public Information Center. A briefing will be held\, honor bikes will be selected\, and then riders will proceed to the appropriate shelter\, set the flags\, and await the arrival of MSG Robert VanAelst\, his family\, and friends. After the service\, flags will be furled\, riders briefed and dismissed. \nName Of Staging Point\nDallas Fort Worth National Cemetery Visitor’s Center
URL:https://www.patriotguard.org/mission/msg-robert-vanaelst-usaret-fort-worth/
CATEGORIES:Archive
END:VEVENT
END:VCALENDAR