BEGIN:VCALENDAR
VERSION:2.0
PRODID:-//Patriot Guard Riders - ECPv5.6.0//NONSGML v1.0//EN
CALSCALE:GREGORIAN
METHOD:PUBLISH
X-WR-CALNAME:Patriot Guard Riders
X-ORIGINAL-URL:https://www.patriotguard.org
X-WR-CALDESC:Events for Patriot Guard Riders
BEGIN:VTIMEZONE
TZID:America/New_York
BEGIN:DAYLIGHT
TZOFFSETFROM:-0500
TZOFFSETTO:-0400
TZNAME:EDT
DTSTART:20160313T070000
END:DAYLIGHT
BEGIN:STANDARD
TZOFFSETFROM:-0400
TZOFFSETTO:-0500
TZNAME:EST
DTSTART:20161106T060000
END:STANDARD
END:VTIMEZONE
BEGIN:VEVENT
DTSTART;TZID=America/New_York:20160826T090000
DTEND;TZID=America/New_York:20160826T110000
DTSTAMP:20210511T193656
CREATED:20160826T130000Z
LAST-MODIFIED:20191201T143349Z
UID:409702-1472202000-1472209200@www.patriotguard.org
SUMMARY:MSG Robert Lee Vincent\, Jr\, 70\, USA(RET)\, Vietnam / Copperas Cove
DESCRIPTION:MSG Robert Lee Vincent\, Jr\, 70\nUS Army Retired\nVietnam Veteran\nOf Kempner\, TX\n\n\n\nThe family of Master Sergeant Robert Vincent has requested the participation and presence of the Patriot Guard Riders during the Procession and at the Committal Service of their Loved One. \nRobert was a Vietnam Veteran who served in the US Army for 23 years.  He was elected Lampasas County Commissioner\, Precinct 1\, in 1988\, and served 28 years until his death. \nHis full obituary may be found here: http://www.scottsfhcc.com/notices/Robert-VincentJr \nDate: Fri\, 26 Aug 16 \nPROCESSION \nStaging Time: 0950 \nStaging Location:\nScott’s Funeral Home\n1614 S FM 116\nCOPPERAS COVE\, TX 76522 (http://tinyurl.com/ScottFHmCC) \nBriefing: 0955 \nKSU: 1000 +/- At the discretion of the Funeral Director. \nNotes: \n1. There will be LEO and a Lead Car all the way to CTSVC. \n2. Be at staging TOPPED OFF. \nRide Captain:\nLarry “PapaDragon” Femrite\n254.317.5545\nblewdragon6@yahoo.com \nCOMMITTAL SERVICE \nStaging Time: 1005 \nStaging Location: The cul-de-sac between the Walk of Heroes and the Memorial Shelter at the Central Texas State Veterans Cemetery located off TX 195 just south of Killeen\, TX (http://tinyurl.com/CenTexVetsCeme) \nSetup & Briefing: Upon clearance and at the direction of the Ride Captain\, we will move to the shelter\, set up the flags\, be briefed and await arrival of the procession from Copperas Cove. \nRide Captain:\nMary “Marebear” Gregory\n254.458.2120\nMgregory2@hot.rr.com \nWX: A 30 percent chance of showers and thunderstorms. Partly sunny\, with a high near 89. Calm wind becoming east southeast around 5 mph in the afternoon. \nNotes:\n1. Be at staging(s) ON TIME. \n2. Hydrate well prior\, bring water for yourself and a buddy and dress with consideration of the weather conditions. \nPlease join us in honoring this Retired US Army Vietnam Veteran for his selfless service to our Great Nation and his Community.
URL:https://www.patriotguard.org/mission/msg-robert-lee-vincent-jr-70-usaret-vietnam-copperas-cove/
CATEGORIES:Archive
END:VEVENT
END:VCALENDAR