BEGIN:VCALENDAR
VERSION:2.0
PRODID:-//Patriot Guard Riders - ECPv5.6.0//NONSGML v1.0//EN
CALSCALE:GREGORIAN
METHOD:PUBLISH
X-WR-CALNAME:Patriot Guard Riders
X-ORIGINAL-URL:https://www.patriotguard.org
X-WR-CALDESC:Events for Patriot Guard Riders
BEGIN:VTIMEZONE
TZID:America/New_York
BEGIN:DAYLIGHT
TZOFFSETFROM:-0500
TZOFFSETTO:-0400
TZNAME:EDT
DTSTART:20160313T070000
END:DAYLIGHT
BEGIN:STANDARD
TZOFFSETFROM:-0400
TZOFFSETTO:-0500
TZNAME:EST
DTSTART:20161106T060000
END:STANDARD
END:VTIMEZONE
BEGIN:VEVENT
DTSTART;TZID=America/New_York:20160823T090000
DTEND;TZID=America/New_York:20160823T110000
DTSTAMP:20210512T041627
CREATED:20160823T130000Z
LAST-MODIFIED:20191201T143440Z
UID:409778-1471942800-1471950000@www.patriotguard.org
SUMMARY:MSG Charles Brigis\, USA(RET) Korea - Vietnam /  Fayetteville
DESCRIPTION:Fellow Patriots:\n\nThe family of MSG Charles Brigis\, USA\, RET has requested that we stand for him as he stood for this country. MSG Brigis was born October 25\, 1925 and passed away August 12\, 2016 in the NC State Veterans Nursing Home in Fayetteville. \nMr. Brigis was a pilot with the Civil Air Patrol and a lifetime member of the VFW Post 5631 in Sanford\, NC. \nMSG Brigis also served his country in the U.S. Army for over 26 years.   He served in Vietnam as an infantryman with the 5th Special Forces Group and earned the following awards among others\, Army Occupation Medal\, Diver Badge\, Expert Infantry Badge\, Combat Infantry Badge\, Vietnam Service Medal\, Vietnam Campaign Medal w/60  Device\, Master Parachute Badge\, Purple Heart\, (1st OLC)\, Army  Commendation Medal w/V Device\, and Bronze Star (1st. OLC).\n\nThis is a link to his obituary.\nhttp://www.adcockfuneralandcrematory.com/home/index.cfm/obituaries/view/fh_id/15105/id/3856971\n\nThis will be a one part mission. \nGraveside Service:    August 23\, 2016\nLocation:     Sandhills State Veterans Cemetery\n               8220 Bragg Blvd.\n               Fayetteville\, NC 28310\n\nStaging:     1:00 PM\n\nBriefing:    1:15 PM \nAt approximately 1:30 PM we will form a flag line for the 2:00 PM graveside service with military honors.  Please join me as we stand for this hero.\n\nI am proud to serve as RCIC and POC for this mission and I will have flags and water available.\n\nPaul C. Briggs\n919-545-4659\nbrigpc@gmail.com\n\n*SPECIAL NOTE*\n\nSafety is our up most priority. Every effort possible is made in planning and executing the PGR Mission statement in a manner that minimizes the inherit dangers of a motorcycle\, including riding in groups of all sizes and any situation. While the NCPG and its riders have a remarkable safety record in the execution of our missions\, infrequently members have been injured in unforeseen accidents. In an effort to mitigate the risks of preventable accidents\, all attendees who wish to ride in a Patriot Guard motorcycle escort or ride are asked to attend the pre-mission briefing. It will include a safety briefing\, and any unique ride information known to our RCIC that may be specific to the mission. Member safety and well-being is always a principal ongoing concern. Our RCIC’s are asked to stand down from any mission that cannot be accomplished in relative safety or present unreasonable risks. This includes both rides and flag lines in inclement weather and conditions. It remains each individual PGR member’s responsibility to ride within their own comfort zone and be cognizant of their surroundings and skill limitations as well as any physical needs or limitations. If the ride and/or mission conditions present challenges beyond your skill\, comfort\, or needs\, you are expected to exercise good judgment in foregoing any planned participation.
URL:https://www.patriotguard.org/mission/msg-charles-brigis-usaret-korea-vietnam-fayetteville/
CATEGORIES:Archive
END:VEVENT
END:VCALENDAR