BEGIN:VCALENDAR
VERSION:2.0
PRODID:-//Patriot Guard Riders - ECPv5.6.0//NONSGML v1.0//EN
CALSCALE:GREGORIAN
METHOD:PUBLISH
X-WR-CALNAME:Patriot Guard Riders
X-ORIGINAL-URL:https://www.patriotguard.org
X-WR-CALDESC:Events for Patriot Guard Riders
BEGIN:VTIMEZONE
TZID:America/New_York
BEGIN:DAYLIGHT
TZOFFSETFROM:-0500
TZOFFSETTO:-0400
TZNAME:EDT
DTSTART:20160313T070000
END:DAYLIGHT
BEGIN:STANDARD
TZOFFSETFROM:-0400
TZOFFSETTO:-0500
TZNAME:EST
DTSTART:20161106T060000
END:STANDARD
END:VTIMEZONE
BEGIN:VEVENT
DTSTART;TZID=America/New_York:20160722T090000
DTEND;TZID=America/New_York:20160722T110000
DTSTAMP:20210513T001438
CREATED:20160722T130000Z
LAST-MODIFIED:20191201T144140Z
UID:410430-1469178000-1469185200@www.patriotguard.org
SUMMARY:MSG Arthur Hamilton Baker\, 61
DESCRIPTION:HONOR MISSION\nMSG Arthur Hamilton “Art” Baker\, 61\, US Army\, Retired\, Temple\, TX\n\n \nThe family of Master Sergeant Art Baker has requested the presence of the Patriot Guard Riders at the Inurnment of their Loved One.\n \nArt’s full obituary may be found here: http://www.hewettarney.com/book-of-memories/2646658/Baker-Arthur/obituary.php\n \nDate: Fri\, 22 Jul 16\n \nStaging Time: 0905\n \nStaging Location: The cul-de-sac between the Walk of Heroes and the Memorial Shelter at the Central Texas State Veterans Cemetery located off TX 195 just south of Killeen\, TX (http://tinyurl.com/CenTexVetsCeme)\n \nSetup & Briefing: Upon clearance and at the direction of the Ride Captain\, we will move to the shelter\, set up the flags\, be briefed and await arrival of the procession from Temple\, TX.\n \nRide Captain: Barry “Bear” Dahlquist; 254.317.9977; advanceman1@yahoo.com\n \nWX: Sunny and hot\, with a high near 100. South southeast wind 5 to 10 mph.\n \nNotes:\n \n1. Be at staging ON TIME.\n \n2. Hydrate well prior\, bring water for yourself and a buddy and dress with consideration of the weather conditions.\n  \n\nPlease join us in honoring this Retired US Army Noncommissioned Officer for his selfless service to our Great Nation.
URL:https://www.patriotguard.org/mission/msg-arthur-hamilton-baker-61/
END:VEVENT
END:VCALENDAR