BEGIN:VCALENDAR
VERSION:2.0
PRODID:-//Patriot Guard Riders - ECPv5.6.0//NONSGML v1.0//EN
CALSCALE:GREGORIAN
METHOD:PUBLISH
X-WR-CALNAME:Patriot Guard Riders
X-ORIGINAL-URL:https://www.patriotguard.org
X-WR-CALDESC:Events for Patriot Guard Riders
BEGIN:VTIMEZONE
TZID:America/New_York
BEGIN:DAYLIGHT
TZOFFSETFROM:-0500
TZOFFSETTO:-0400
TZNAME:EDT
DTSTART:20160313T070000
END:DAYLIGHT
BEGIN:STANDARD
TZOFFSETFROM:-0400
TZOFFSETTO:-0500
TZNAME:EST
DTSTART:20161106T060000
END:STANDARD
END:VTIMEZONE
BEGIN:VEVENT
DTSTART;TZID=America/New_York:20160730T090000
DTEND;TZID=America/New_York:20160730T110000
DTSTAMP:20210512T235904
CREATED:20160730T130000Z
LAST-MODIFIED:20191201T144010Z
UID:410289-1469869200-1469876400@www.patriotguard.org
SUMMARY:MSG Andrew Jackson\, Jr.
DESCRIPTION:Andrew Jackson\, Jr.\, E-8 USA\n\n\n\nTallahassee\, FL\n\n\n30 JUL 16\n\n\n\nThe  family of MSG  Andrew Jackson has requested the presence of the Patriot  Guard to stand in his honor.  Please come as able. \nMSG Jackson was a  24 year Army veteran.  His last duty assignment was as a munitions supervisor. He served in  Germany\, several tours in Vietnam\, and many other assignments. He earned  many awards including Vietnam Gallantry unit citation W Palm\, Vietnam Service Medal with 3 bars\, Good Conduct Medal\, and  the list goes on. \nStaging will be at 10:00 a.m. behind the Hooters\, 2000 N Monroe St.\, in the old Northwood Mall parking lot  with KSU at 10:15. We will proceed to the church and stand a flag line. Flags will be available. \nService will be this Saturday (JUL 30) at Bethel MB Church located at 224 Martin Luther King Blvd.\, Tallahassee\, at 11:00 a.m. with  burial at South Side Cemetery located near the Tallahassee Airport following the service. \nConnie Donohoe\n850-510-1874\nSenior Ride Captain
URL:https://www.patriotguard.org/mission/msg-andrew-jackson-jr/
CATEGORIES:Archive
END:VEVENT
END:VCALENDAR