BEGIN:VCALENDAR
VERSION:2.0
PRODID:-//Patriot Guard Riders - ECPv5.3.2.1//NONSGML v1.0//EN
CALSCALE:GREGORIAN
METHOD:PUBLISH
X-WR-CALNAME:Patriot Guard Riders
X-ORIGINAL-URL:https://www.patriotguard.org
X-WR-CALDESC:Events for Patriot Guard Riders
BEGIN:VTIMEZONE
TZID:America/New_York
BEGIN:DAYLIGHT
TZOFFSETFROM:-0500
TZOFFSETTO:-0400
TZNAME:EDT
DTSTART:20190310T070000
END:DAYLIGHT
BEGIN:STANDARD
TZOFFSETFROM:-0400
TZOFFSETTO:-0500
TZNAME:EST
DTSTART:20191103T060000
END:STANDARD
END:VTIMEZONE
BEGIN:VEVENT
DTSTART;VALUE=DATE:20190620
DTEND;VALUE=DATE:20190621
DTSTAMP:20210405T054023
CREATED:20190619T201901Z
LAST-MODIFIED:20190619T201901Z
UID:165222-1560988800-1561075199@www.patriotguard.org
SUMMARY:Moses Wayne Callahan
DESCRIPTION:Honor Mission\nMoses Wayne Callahan\, Veteran\nUSA – Vietnam\nMULTI-CITY\, North Carolina – 06-20-19\n\n\n\nABOUT THE MISSION: \nU.S. Army Vietnam Veteran\, member of Rolling Thunder\, avid Harley rider and retired route salesman for Cheerwine.\n\n\nPRIMARY STAGING DETAILS: 06-20-19 \nStaging Time: 07:30 AM\n \nGeorge Brothers Funeral Home\n803 Greenhaven Drive\nGreensboro\, North Carolina 27406\n\n\nRide Captain: \nChuck Laudenslager\nCL252@hotmail.com\n(cell) 910-690-5660\n(home) 910-464-1777\n\n\nSpecial Instructions: \nProcession to depart funeral home 8:00 AM\n\n\nFlags & Water:\nFlags will be provided\nLarge Bike Flags will NOT be needed.\nWater will be provided.\n\nSTAGING #2 DETAILS: 06-20-19 \nStaging Time: 10:00 AM\n \nSalisbury National Cemetery\n501 Statesville Blve\nSalisbury\, North Carolina\n\n\nRide Captain: \nChuck Laudenslager\nCL252@hotmail.com\n(cell) 910-690-5660\n(home) 910-464-1777\n\n\nSpecial Instructions: \nFlag line only\n\n\nFlags & Water:\nFlags will be provided\nLarge Bike Flags will NOT be needed.\nWater will be provided.\n\n\n\nSubmitted By: Isaac Laudenslager \nPosition: North Carolina Ride Captain \n\nNote: You do not have to own/ride a motorcycle or be a veteran to join\, and membership is Free. The only requirement is RESPECT! To subscribe to receive mission notices\, log into the National Site and click on the Members tab at the top. Select the Subscribe to PGR Missions option.\n Print This Page
URL:https://www.patriotguard.org/mission/moses-wayne-callahan/
CATEGORIES:Honor Mission
END:VEVENT
END:VCALENDAR