BEGIN:VCALENDAR
VERSION:2.0
PRODID:-//Patriot Guard Riders - ECPv5.3.2.1//NONSGML v1.0//EN
CALSCALE:GREGORIAN
METHOD:PUBLISH
X-WR-CALNAME:Patriot Guard Riders
X-ORIGINAL-URL:https://www.patriotguard.org
X-WR-CALDESC:Events for Patriot Guard Riders
BEGIN:VTIMEZONE
TZID:America/New_York
BEGIN:DAYLIGHT
TZOFFSETFROM:-0500
TZOFFSETTO:-0400
TZNAME:EDT
DTSTART:20190310T070000
END:DAYLIGHT
BEGIN:STANDARD
TZOFFSETFROM:-0400
TZOFFSETTO:-0500
TZNAME:EST
DTSTART:20191103T060000
END:STANDARD
END:VTIMEZONE
BEGIN:VEVENT
DTSTART;VALUE=DATE:20190623
DTEND;VALUE=DATE:20190624
DTSTAMP:20210405T054535
CREATED:20190620T210413Z
LAST-MODIFIED:20190620T210413Z
UID:165320-1561248000-1561334399@www.patriotguard.org
SUMMARY:Moses James Best
DESCRIPTION:Honor Mission\nMoses James Best\, Veteran\nUSAF – Korea\nWinterville\, North Carolina – 06-23-19\n\n\n\nABOUT THE MISSION: \nPvt Moses James Best\, when called\, served our Country in the Korean War. He served honorably in the U.S. Air Force. We have now been called to stand with honor for him.\n\n\nPRIMARY STAGING DETAILS: 06-23-19 \nStaging Time: 2:00 PM\n \nWarren Chapel F.W.B. Church\n2864 Speight Seed Farm Rd.\nWinterville\, North Carolina 27828\n\n\nRide Captain: \nLevi “Bowwezy” Clemons\n\n\nSpecial Instructions: \nWe will set the Flag line and show respect during the arrival of Family and Friends.\n\n\nFlags & Water:\nFlags will be provided\nIf you have large bike flags\, please bring them.\nWater WILL NOT be provided\, please bring your own.\n\n\n\nSubmitted By: Roy Hankinson \nPosition: North Carolina Assistant State Captain \n\nNote: You do not have to own/ride a motorcycle or be a veteran to join\, and membership is Free. The only requirement is RESPECT! To subscribe to receive mission notices\, log into the National Site and click on the Members tab at the top. Select the Subscribe to PGR Missions option.\n Print This Page
URL:https://www.patriotguard.org/mission/moses-james-best/
CATEGORIES:Honor Mission
END:VEVENT
END:VCALENDAR