BEGIN:VCALENDAR
VERSION:2.0
PRODID:-//Patriot Guard Riders - ECPv5.3.2.1//NONSGML v1.0//EN
CALSCALE:GREGORIAN
METHOD:PUBLISH
X-WR-CALNAME:Patriot Guard Riders
X-ORIGINAL-URL:https://www.patriotguard.org
X-WR-CALDESC:Events for Patriot Guard Riders
BEGIN:VTIMEZONE
TZID:America/New_York
BEGIN:DAYLIGHT
TZOFFSETFROM:-0500
TZOFFSETTO:-0400
TZNAME:EDT
DTSTART:20190310T070000
END:DAYLIGHT
BEGIN:STANDARD
TZOFFSETFROM:-0400
TZOFFSETTO:-0500
TZNAME:EST
DTSTART:20191103T060000
END:STANDARD
END:VTIMEZONE
BEGIN:VEVENT
DTSTART;VALUE=DATE:20190824
DTEND;VALUE=DATE:20190825
DTSTAMP:20210402T092534
CREATED:20190822T125236Z
LAST-MODIFIED:20190822T125236Z
UID:171589-1566604800-1566691199@www.patriotguard.org
SUMMARY:Morris Neil Adair
DESCRIPTION:Honor Mission\nMorris Neil Adair\, Retired\nUSA – Vietnam\nPalestine\, Texas – 08-24-19\n\n\n\nABOUT THE MISSION: \nMr Adair entered the United States Army in 1972 and served his country in Vietnam with the Special Forces. After 22 years he was honorably discharged as a Sgt. Major. Among his many decorations he received the Purple Heart\, Vietnam Service Medal\, Bronze Star Medal\, Vietnamese Jump Wings and many more. Will have more information at briefing\n\n\nPRIMARY STAGING DETAILS: 08-24-19 \nStaging Time: 09:15 AM\n \nHerrington/Land of Memories Funeral Home\n3434 South Loop 256\nPalestine\, Texas 75801\nMap\n\n\nRide Captain: \nCLIFF JORDAN\nPhone: 936-687-4201\nEmail Address: cwjordan85@yahoo.com\n\n\nSpecial Instructions: \nStage: 9:15 am – 9:45 am\nRiders meeting: 9:45 am\nDirections to the cemetery will be given by the Ride Captain.\nBIG FLAG BIKES REQUESTED FOR ESCORT.\nPlease remain flexible as to the requirements of the mission. (SEMPER GUMBY)\n\n\nFlags & Water:\nFlags will be provided\nIf you have large bike flags\, please bring them.\nWater will be provided.\n\n\n\nSubmitted By: Michael Eubank \nPosition: Texas Deputy State Captain \n\nNote: You do not have to own/ride a motorcycle or be a veteran to join\, and membership is Free. The only requirement is RESPECT! To subscribe to receive mission notices\, log into the National Site and click on the Members tab at the top. Select the Subscribe to PGR Missions option.\n Print This Page
URL:https://www.patriotguard.org/mission/morris-neil-adair/
CATEGORIES:Honor Mission
END:VEVENT
END:VCALENDAR