BEGIN:VCALENDAR
VERSION:2.0
PRODID:-//Patriot Guard Riders - ECPv5.3.2.1//NONSGML v1.0//EN
CALSCALE:GREGORIAN
METHOD:PUBLISH
X-WR-CALNAME:Patriot Guard Riders
X-ORIGINAL-URL:https://www.patriotguard.org
X-WR-CALDESC:Events for Patriot Guard Riders
BEGIN:VTIMEZONE
TZID:America/New_York
BEGIN:DAYLIGHT
TZOFFSETFROM:-0500
TZOFFSETTO:-0400
TZNAME:EDT
DTSTART:20190310T070000
END:DAYLIGHT
BEGIN:STANDARD
TZOFFSETFROM:-0400
TZOFFSETTO:-0500
TZNAME:EST
DTSTART:20191103T060000
END:STANDARD
END:VTIMEZONE
BEGIN:VEVENT
DTSTART;VALUE=DATE:20190611
DTEND;VALUE=DATE:20190612
DTSTAMP:20210405T043737
CREATED:20190610T041757Z
LAST-MODIFIED:20190610T041757Z
UID:164095-1560211200-1560297599@www.patriotguard.org
SUMMARY:Monico “Monty” Perez\, III
DESCRIPTION:Honor Mission\nMonico “Monty” Perez\, III\, Veteran\nUSMC\nHouston\, Texas – 06-11-19\n\n\n \n\nABOUT THE MISSION: \nMonty Perez\, 51\, of Humble Tx. was born November 20\,1967 and passed away peacefully at home on Tuesday June 4\, 2019. He battled stage 4 lung cancer with true heroism\, he was the definition of valor and strength. More information at briefing.\n\n\nPRIMARY STAGING DETAILS: 06-11-19 \nStaging Time: 9:45 am  \nEarthman Resthaven Funeral Home\n13102 North Freeway\nHouston\, Texas 77060\nMap\n\n\nRide Captain: \nGeorge Pelkey\n(713) 376-2812\ngeorgepelkey@prodigy.net\n\n\nSpecial Instructions: \nBriefing Time: 10:15 am\nIn position time: 10:30 am\nService Time: 11:00 am\nFlag line only at Funeral Home from 10:30 am – 11:00 am.\n\nFlags & Water:\nFlags will be provided\nLarge Bike Flags will NOT be needed.\nWater will be provided.\n\n\n\nSubmitted By: Steve Cox \nPosition: Texas Ride Captain \n\nNote: You do not have to own/ride a motorcycle or be a veteran to join\, and membership is Free. The only requirement is RESPECT! To subscribe to receive mission notices\, log into the National Site and click on the Members tab at the top. Select the Subscribe to PGR Missions option.\n Print This Page
URL:https://www.patriotguard.org/mission/monico-monty-perez-iii/
CATEGORIES:Honor Mission
END:VEVENT
END:VCALENDAR