BEGIN:VCALENDAR
VERSION:2.0
PRODID:-//Patriot Guard Riders - ECPv5.3.2.1//NONSGML v1.0//EN
CALSCALE:GREGORIAN
METHOD:PUBLISH
X-WR-CALNAME:Patriot Guard Riders
X-ORIGINAL-URL:https://www.patriotguard.org
X-WR-CALDESC:Events for Patriot Guard Riders
BEGIN:VTIMEZONE
TZID:America/New_York
BEGIN:DAYLIGHT
TZOFFSETFROM:-0500
TZOFFSETTO:-0400
TZNAME:EDT
DTSTART:20190310T070000
END:DAYLIGHT
BEGIN:STANDARD
TZOFFSETFROM:-0400
TZOFFSETTO:-0500
TZNAME:EST
DTSTART:20191103T060000
END:STANDARD
END:VTIMEZONE
BEGIN:VEVENT
DTSTART;VALUE=DATE:20190913
DTEND;VALUE=DATE:20190914
DTSTAMP:20210401T074228
CREATED:20190910T033918Z
LAST-MODIFIED:20190910T033918Z
UID:172462-1568332800-1568419199@www.patriotguard.org
SUMMARY:Missing in America Project - Cpl Biggs & Sgt Thompson
DESCRIPTION:Honor Mission\nMissing in America Project – Cpl Biggs & Sgt Thompson\, Veteran\nUSA –\nMaple Valley\, Washington – 09-13-19\n\n\n\nABOUT THE MISSION: \nLadies and Gentlemen of the Patriot Guard Riders\, we have been requested by Missing In America Project to stand a flag line for two unclaimed Buffalo Soldiers as they receive their final military honors. Corporal Antonio Biggs served 27 October 1917 to 25 July 1919 (WWI) and Sergeant Willard Thompson\, served 13 August 1942 to 18 January 1946 (WWII). It is believed that they were both in the 92nd Infantry Division\, a segregated unit that was officially designated “Buffalo Soldiers” with the appropriate shoulder patch. This mission is in conjunction with the Buffalo Soldiers Motorcycle Club national rally being held that weekend in Tacoma. They asked to make this interment a part of their rally. It will be our honor to stand for these two veterans who have lain unclaimed for so many years. Thanks to the work of Missing In America Project these two soldiers will receive their justly earned military honors.\n\n\nPRIMARY STAGING DETAILS: 09-13-19 \nStaging Time: 2:00 PM\n \nMcDonald’s\n23225 Maple Valley Black Diamond Hwy\nMaple Valley\, Washington 98038\n\n\nRide Captain: \nSabrina “Mother Hen” Brown\npgrmotherhen@gmail.com\n206-369-1434\n\nSupport Vehicle – Ron Jellum\, ltrsz28@hotmail.com\, 206-669-8662\n\n\nSpecial Instructions: \nSCHEDULE:\n1:45 – RC/SV arrive.\n2:00 – Riders arrive\, sign in.\n2:15 – Mission Briefing.\n2:30 – KSU.\n2:45 – Flag Line in place.\n3:00 – service begins.\n3:30 – or end of service\, quietly fade away & debrief.\nThis will be the third of three services at this location on this date\, always remember\, riding is not a requirement of the PGR.\nCages always welcome!\n\n\nFlags & Water:\nFlags will be provided\nLarge Bike Flags will NOT be needed.\nWater will be provided.\n\n\n\nSubmitted By: Sabrina Brown \nPosition: Washington State Captain \n\nNote: You do not have to own/ride a motorcycle or be a veteran to join\, and membership is Free. The only requirement is RESPECT! To subscribe to receive mission notices\, log into the National Site and click on the Members tab at the top. Select the Subscribe to PGR Missions option.\n Print This Page
URL:https://www.patriotguard.org/mission/missing-in-america-project-cpl-biggs-sgt-thompson/
CATEGORIES:Honor Mission
END:VEVENT
END:VCALENDAR