BEGIN:VCALENDAR
VERSION:2.0
PRODID:-//Patriot Guard Riders - ECPv5.3.2.1//NONSGML v1.0//EN
CALSCALE:GREGORIAN
METHOD:PUBLISH
X-WR-CALNAME:Patriot Guard Riders
X-ORIGINAL-URL:https://www.patriotguard.org
X-WR-CALDESC:Events for Patriot Guard Riders
BEGIN:VTIMEZONE
TZID:America/New_York
BEGIN:DAYLIGHT
TZOFFSETFROM:-0500
TZOFFSETTO:-0400
TZNAME:EDT
DTSTART:20170312T070000
END:DAYLIGHT
BEGIN:STANDARD
TZOFFSETFROM:-0400
TZOFFSETTO:-0500
TZNAME:EST
DTSTART:20171105T060000
END:STANDARD
END:VTIMEZONE
BEGIN:VEVENT
DTSTART;TZID=America/New_York:20170609T103000
DTEND;TZID=America/New_York:20170609T123000
DTSTAMP:20210406T033750
CREATED:20170609T143000Z
LAST-MODIFIED:20191201T034431Z
UID:342197-1497004200-1497011400@www.patriotguard.org
SUMMARY:Minnie Mae Smith-Stoumbaugh\, Veteran\, USMC
DESCRIPTION:Minnie Mae Smith-Stoumbaugh\, Veteran \nUSMC \nPortland\, Oregon – 09 Jun 2017\n\n[HR][/HR]\nABOUT THE MISSION: \nLadies and Gentlemen of the Patriot Guard Riders\, we have been requested to stand for U.S. Marine Veteran\, Minnie Mae Smith-Stoumbaugh. She served in the USMC from April 1957 to December 1957 as a Basic Data Systems person and was honorably discharged at the rank of Pvt. Please join us as we help support her family\, pay our respects\, and honor her service to our nation. \nPRIMARY STAGING DETAILS: 09 Jun 2017 \n \nPrimary Staging Time: 10:30 A.M.\n\nWillamette National Cemetery\n11800 SE Mt Scott Blvd\n\nPortland\, Oregon – 97086\n\n\n\n \nRide Captain:\n\nLynn Morett\np_morett@yahoo.com\n\n \n\nSpecial Instructions:\n\nMeet up top at the Rostrum by the flagpole. Please enter the cemetery through Gate 2 – across from Lincoln Memorial. \nBriefing: 10:50 am\nKSU: 11:00 am\nFlag line Set: 11:15 am\nService Begins: 11:30 am \n*** There will be a RHG from the cortege to the shelter.\n\n \nFlags & Water:\n\nFlags Will NOT Be Provided\, Please Bring Your Own.\n\nIf you have large bike flags\, please bring them.\n\nWater WILL NOT be provided\, please bring your own.\n\n\nSubmitted By:  John@JH2design.com\nPosition: State Captain \n[HR][/HR]\nNote:\nYou do not have to own/ride a motorcycle or be a Veteran to join and membership is Free. The only requirement is RESPECT! To join\, simply go to www.PatriotGuard.org and click on Register. Membership is Free. \nTo subscribe to receive mission notices\, log into the National Site and click on the Mission Tab at the top. Select Upcoming Missions by State. Scroll to the state(s) you would like to receive notices for and click on the green check mark. Detailed instructions are also located in the FAQs on the site by clicking on the Quick Links Tab and selecting FAQs.
URL:https://www.patriotguard.org/mission/minnie-mae-smith-stoumbaugh-veteran-usmc/
END:VEVENT
END:VCALENDAR