BEGIN:VCALENDAR
VERSION:2.0
PRODID:-//Patriot Guard Riders - ECPv5.6.0//NONSGML v1.0//EN
CALSCALE:GREGORIAN
METHOD:PUBLISH
X-WR-CALNAME:Patriot Guard Riders
X-ORIGINAL-URL:https://www.patriotguard.org
X-WR-CALDESC:Events for Patriot Guard Riders
BEGIN:VTIMEZONE
TZID:UTC
BEGIN:STANDARD
TZOFFSETFROM:+0000
TZOFFSETTO:+0000
TZNAME:UTC
DTSTART:20060101T000000
END:STANDARD
END:VTIMEZONE
BEGIN:VEVENT
DTSTART;TZID=UTC:20060930T160000
DTEND;TZID=UTC:20060930T180000
DTSTAMP:20210513T221926
CREATED:20060930T200000Z
LAST-MODIFIED:20200105T061621Z
UID:324378-1159632000-1159639200@www.patriotguard.org
SUMMARY:Minnesota
DESCRIPTION:We have been invited by the family of Vietnam Veteran Art Kee\, 65\, of\nRochester MN\, to attend his services on Saturday morning\, Sept. 30th. \nThis is a courtesy notice only – all mission information is under confirmed missions: \nhttp://patriotguard.org/Forums/tabid/61/postid/241801/view/topic/Default.aspx
URL:https://www.patriotguard.org/mission/minnesota-3/
END:VEVENT
END:VCALENDAR