BEGIN:VCALENDAR
VERSION:2.0
PRODID:-//Patriot Guard Riders - ECPv5.3.2.1//NONSGML v1.0//EN
CALSCALE:GREGORIAN
METHOD:PUBLISH
X-WR-CALNAME:Patriot Guard Riders
X-ORIGINAL-URL:https://www.patriotguard.org
X-WR-CALDESC:Events for Patriot Guard Riders
BEGIN:VTIMEZONE
TZID:America/New_York
BEGIN:DAYLIGHT
TZOFFSETFROM:-0500
TZOFFSETTO:-0400
TZNAME:EDT
DTSTART:20190310T070000
END:DAYLIGHT
BEGIN:STANDARD
TZOFFSETFROM:-0400
TZOFFSETTO:-0500
TZNAME:EST
DTSTART:20191103T060000
END:STANDARD
END:VTIMEZONE
BEGIN:VEVENT
DTSTART;VALUE=DATE:20190814
DTEND;VALUE=DATE:20190816
DTSTAMP:20210402T085838
CREATED:20190812T134659Z
LAST-MODIFIED:20190812T134812Z
UID:170601-1565740800-1565913599@www.patriotguard.org
SUMMARY:Milton Farmer
DESCRIPTION:Honor Mission\nMilton Farmer\, Retired\, Veteran\nUSA – Vietnam\nCanton\, Georgia – 08-14-19\n\n\n\nABOUT THE MISSION: \nMSGT Farmer served 20 years in the US Army in the 82nd and 101st Airborne as a jump master\, with service in Vietnam\, Germany\, and many other locations. He is a Georgia native and lived in Canton area after retirement working at a local golf course.\n\n\nPRIMARY STAGING DETAILS: 08-14-19 \nStaging Time: 10:30 am\n \nSouth Canton Funeral Home\n3147 Marietta Hwy\nCanton\, Georgia 30114\n\n\nRide Captain: \nClete Simpson\ncsimps15@comcast.net\n770-364-6266\n\n\nSpecial Instructions: \nDue to Georgia National Cemetery scheduling\, this is a two day mission with flag line on Wed. 8-14 and Escort/FL on 8-15.\nMeet at the funeral home parking lot. After a briefing\, we will stand a 2 hour flag line before the service. When the service starts at 1:00 PM we will silently depart to return the next morning for the escort.\n\n\nFlags & Water:\nFlags will be provided\nLarge Bike Flags will NOT be needed.\nWater will be provided.\n\nSTAGING #2 DETAILS: 08-15-19 \nStaging Time: 8:45 am  \nSouth Canton Funeral Home\n3147 Marietta Hwy\nCanton\, Georgia 30114\n\n\nRide Captain: \nClete Simpson\ncsimps15@comcast.net\n770-364-6266\n\n\nSpecial Instructions: \nMeet in the front parking lot where we will line up for the LEO escort to the Georgia National Cemetery. We will have a safety briefing\, then depart NLT 9:30 AM for the 10:00 AM service at GNC.\n\n\nFlags & Water:\nFlags will not be provided\nIf you have large bike flags\, please bring them.\nWater will be provided.\n\nSTAGING #3 DETAILS: 08-15-19 \nStaging Time: 9:15 am  \nGeorgia National Cemetery\n1080 Veterans Cemetery Road\nCanton\, Georgia 30114\n\n\nRide Captain: \nClete Simpson\ncsimps15@comcast.net770-364-6266\n\n\nSpecial Instructions: \nMeet at the POW/MIA Flag Pole. After shelter assignment and briefing\, we will depart to stand a flag line during the 10:00 AM service.\n\n\nFlags & Water:\nFlags will be provided\nLarge Bike Flags will NOT be needed.\nWater will be provided.\n\n\nSubmitted By: Clete Simpson \nPosition: Georgia Ride Captain \n\nNote: You do not have to own/ride a motorcycle or be a veteran to join\, and membership is Free. The only requirement is RESPECT! To subscribe to receive mission notices\, log into the National Site and click on the Members tab at the top. Select the Subscribe to PGR Missions option.\n Print This Page
URL:https://www.patriotguard.org/mission/milton-farmer/
CATEGORIES:Honor Mission
END:VEVENT
END:VCALENDAR