BEGIN:VCALENDAR
VERSION:2.0
PRODID:-//Patriot Guard Riders - ECPv5.3.2.1//NONSGML v1.0//EN
CALSCALE:GREGORIAN
METHOD:PUBLISH
X-WR-CALNAME:Patriot Guard Riders
X-ORIGINAL-URL:https://www.patriotguard.org
X-WR-CALDESC:Events for Patriot Guard Riders
BEGIN:VTIMEZONE
TZID:America/New_York
BEGIN:DAYLIGHT
TZOFFSETFROM:-0500
TZOFFSETTO:-0400
TZNAME:EDT
DTSTART:20180311T070000
END:DAYLIGHT
BEGIN:STANDARD
TZOFFSETFROM:-0400
TZOFFSETTO:-0500
TZNAME:EST
DTSTART:20181104T060000
END:STANDARD
END:VTIMEZONE
BEGIN:VEVENT
DTSTART;VALUE=DATE:20181120
DTEND;VALUE=DATE:20181121
DTSTAMP:20210406T004357
CREATED:20181119T214141Z
LAST-MODIFIED:20181119T214141Z
UID:141799-1542672000-1542758399@www.patriotguard.org
SUMMARY:Military Welcome Home.
DESCRIPTION:Welcome Home\nMilitary Welcome Home\nGrand Rapids\, Michigan – 11-20-18\n\n\n \n\nABOUT THE MISSION: \nThe Patriot Guard Riders have been invited to stand flag line and welcome a soldier home from serving overseas. He has completed his tour and will be coming home to his wife.\n\n\nPRIMARY STAGING DETAILS: 11-20-18 \nStaging Time: 5:00 PM\n \nGerald R. Ford International Airport\n5500 44th St\nGrand Rapids\, Michigan 49512\nMap\n\n\nRide Captain: \nDani Jennings\n(231) 225-6612\n\n\nSpecial Instructions: \nBriefing: 5:30 PM\nFlag Line: Following briefing\nMain lobby by terminals\n\n\nFlags & Water:\nFlags will be provided\nLarge Bike Flags will NOT be needed.\nWater WILL NOT be provided\, please bring your own.\n\n\n\n\nSubmitted By: Alan Niemeyer \nPosition: Michigan State Captain \n\nNote: You do not have to own/ride a motorcycle or be a veteran to join\, and membership is Free. The only requirement is RESPECT! To subscribe to receive mission notices\, log into the National Site and click on the Members tab at the top. Select the Subscribe to PGR Missions option.\n Print This Page
URL:https://www.patriotguard.org/mission/military-welcome-home/
CATEGORIES:Welcome Home
END:VEVENT
END:VCALENDAR