BEGIN:VCALENDAR
VERSION:2.0
PRODID:-//Patriot Guard Riders - ECPv5.6.0//NONSGML v1.0//EN
CALSCALE:GREGORIAN
METHOD:PUBLISH
X-WR-CALNAME:Patriot Guard Riders
X-ORIGINAL-URL:https://www.patriotguard.org
X-WR-CALDESC:Events for Patriot Guard Riders
BEGIN:VTIMEZONE
TZID:America/New_York
BEGIN:DAYLIGHT
TZOFFSETFROM:-0500
TZOFFSETTO:-0400
TZNAME:EDT
DTSTART:20160313T070000
END:DAYLIGHT
BEGIN:STANDARD
TZOFFSETFROM:-0400
TZOFFSETTO:-0500
TZNAME:EST
DTSTART:20161106T060000
END:STANDARD
END:VTIMEZONE
BEGIN:VEVENT
DTSTART;TZID=America/New_York:20160730T090000
DTEND;TZID=America/New_York:20160730T110000
DTSTAMP:20210512T232750
CREATED:20160730T130000Z
LAST-MODIFIED:20191201T144512Z
UID:410752-1469869200-1469876400@www.patriotguard.org
SUMMARY:Milford A. Roehrborn\, 87\, USAAC
DESCRIPTION:Milford A. Roehrborn  \n\n\n \n\n\nWW  II Veteran\n\n\n\nKaukauna\, WI.   \n\n\n\nJuly 30\,  2016\n\n\n\nMilford A. Roehrborn\, 87\, Wrightstown\, WI\,  passed away peacefully surrounded by his family\, September 10\, 2010. \nHe  was a Staff Sergeant in the U.S. Army Air Corps in WW II. He served in the  European Theater of War. He was qualified as an aerial gunner\, radio operator\,  and mechanic.  He served from 1942 to 1945. He was a P.O.W. for almost two  years in Stalag 17B.  We had the honor to attend to Milford and his family  years ago.\nHis wife has now passed away and the  family has asked to join them as they are interred together.   \nBurial:\nJuly 30\, 2016\n2:00 p.m.\nUnion Cemetery\nRyan Road at State  Street\nKaukauna\, WI  54130 \nStaging:   1:00  PM \nFull military honors have been rendered  but taps and a bagpiper will present honors. \nRC: Michael Weaver   skipatroldoc@gmail.com
URL:https://www.patriotguard.org/mission/milford-a-roehrborn-87-usaac/
CATEGORIES:Archive
END:VEVENT
END:VCALENDAR